Workbook

Sheet Questionnaire
A1: SUMMARY OF DATA COLLECTED FROM PATIENTS ATTENDING CLINIC AT THE NYERI PROVINCIAL HOSPITAL
A2: No. | B2: Age | C2: Sex | D2: Marital Status | E2: Education | F2: Employment | G2: YOD | H2: DOF (yrs) | I2: clinic frequency | J2: cormorbidity | K2: comorbid type | L2: DM Rx | M2: Other meds | N2: Smoking Hx | O2: Smoking Duration | P2: No.of sticks/lifetime | Q2: Alcohol Hx | R2: alcohol duration | S2: Alcohol Amount | T2: FHx of DM | U2: Relative | V2: Hx of HTN | W2: Relative | X2: Height (m) | Y2: Weight (Kg) | Z2: BMI | AA2: HC | AB2: WC | AC2: WHR | AD2: BP | AE2: PR | AF2: RR | AG2: TEMP | AH2: RBS
A3: 1 | B3: 63 | C3: M | D3: Mar. | E3: Pr. | F3: Rt. | G3: 2004 | H3: 11 | I3: 4 | J3: Yes | K3: HTN | L3: B | M3: A,B | N3: For. | O3: >1 | P3: <100 | Q3: No | R3: n/a | S3: n/a | T3: No | U3: n/a | V3: No | W3: n/a | X3: 1.85 | Y3: 90 | Z3: =(Y3/(X3)^2) -> 26.296567 | AA3: 40 | AB3: 44 | AC3: =AB3/AA3 -> 1.1 | AD3: 160/90 | AE3: 80 | AF3: 16 | AG3: 37
A4: 2 | B4: 64 | C4: M | D4: Mar. | E4: Pr. | F4: Rt. | G4: 2011 | H4: 4 | I4: 4 | J4: Yes | K4: HTN | L4: B | M4: A,B | N4: For. | O4: >1 | P4: <100 | Q4: Yes | R4: >10 | S4: 0-5 | T4: No | U4: n/a | V4: No | W4: n/a | X4: 1.65 | Y4: 71 | Z4: =(Y4/(X4)^2) -> 26.078972 | AA4: 38 | AB4: 40 | AC4: =AB4/AA4 -> 1.0526316 | AD4: 110/70 | AE4: 80 | AF4: 14 | AG4: 36.4
A5: 3 | B5: 80 | C5: M | D5: Mar. | E5: Pr. | F5: Rt. | G5: 1983 | H5: 31 | I5: 4 | J5: Yes | K5: HTN | L5: B | M5: A,B | N5: For. | O5: >1 | P5: <100 | Q5: Yes | R5: >10 | S5: 5-10 | T5: No | U5: n/a | V5: No | W5: n/a | X5: 1.67 | Y5: 70 | Z5: =(Y5/(X5)^2) -> 25.099502 | AA5: 39 | AB5: 43 | AC5: =AB5/AA5 -> 1.1025641 | AD5: 182/94 | AE5: 94 | AF5: 18 | AG5: 36.9 | AH5: 11.9
A6: 4 | B6: 43 | C6: F | D6: Mar. | E6: Pr. | F6: Rt. | G6: 2013 | H6: 1 | I6: 3 | J6: No | K6: n/a | L6: B | M6: A,B | N6: Never | O6: n/a | P6: n/a | Q6: No | R6: n/a | S6: n/a | T6: No | U6: n/a | V6: No | W6: n/a | X6: 1.65 | Y6: 74 | Z6: =(Y6/(X6)^2) -> 27.1809 | AA6: 117 | AB6: 94 | AC6: =AB6/AA6 -> 0.8034188 | AD6: 110/70 | AE6: 60 | AF6: 12 | AG6: 37.1
A7: 5 | B7: 82 | C7: F | D7: Mar. | E7: Tr. | F7: Rt. | G7: 2010 | H7: 4 | I7: 3 | J7: Yes | K7: HTN | L7: B | M7: n/a | N7: Never | O7: n/a | P7: n/a | Q7: No | R7: n/a | S7: n/a | T7: No | U7: n/a | V7: No | W7: n/a | X7: 1.48 | Y7: 72.5 | Z7: =(Y7/(X7)^2) -> 33.098977 | AA7: 42 | AB7: 38 | AC7: =AB7/AA7 -> 0.9047619 | AD7: 200/100 | AE7: 86 | AF7: 20 | AG7: 37.2 | AH7: 8.1
A8: 6 | B8: 32 | C8: M | D8: Si. | E8: Sec. | F8: None | G8: 2012 | H8: 2 | I8: 7 | J8: No | K8: n/a | L8: C | M8: n/a | N8: Never | O8: n/a | P8: n/a | Q8: No | R8: n/a | S8: n/a | T8: No | U8: n/a | V8: No | W8: n/a | X8: 1.62 | Y8: 57 | Z8: =(Y8/(X8)^2) -> 21.71925 | AA8: 84 | AB8: 91 | AC8: =AB8/AA8 -> 1.0833333 | AD8: 110/70 | AE8: 80 | AF8: 16 | AG8: 36.4
A9: 7 | B9: 44 | C9: F | D9: Mar. | E9: Sec. | F9: Self | G9: 2012 | H9: 2 | I9: 3 | J9: No | K9: n/a | L9: B | M9: n/a | N9: Never | O9: n/a | P9: n/a | Q9: No | R9: n/a | S9: n/a | T9: No | U9: n/a | V9: No | W9: n/a | X9: 1.54 | Y9: 67 | Z9: =(Y9/(X9)^2) -> 28.25097 | AA9: 38 | AB9: 35 | AC9: =AB9/AA9 -> 0.92105263 | AD9: 125/81 | AE9: 87 | AF9: 18 | AG9: 37 | AH9: 7
A10: 8 | B10: 63 | C10: M | D10: Mar. | E10: Sec. | F10: Rt. | G10: 1999 | H10: 15 | I10: 4 | J10: Yes | K10: HTN | L10: B | M10: n/a | N10: For. | O10: >1 | P10: >100 | Q10: No | R10: n/a | S10: n/a | T10: Yes | U10: Sister | V10: Yes | W10: Sister | X10: 1.54 | Y10: 75 | Z10: =(Y10/(X10)^2) -> 31.62422 | AA10: 41 | AB10: 44 | AC10: =AB10/AA10 -> 1.0731707 | AD10: 150/80 | AE10: 78 | AF10: 16 | AG10: 37.1 | AH10: 7.8
A11: 9 | B11: 72 | C11: F | D11: Wid. | E11: None | F11: Unemp. | G11: 2009 | H11: 5 | I11: 4 | J11: No | K11: n/a | L11: B | M11: A,B | N11: Never | O11: n/a | P11: n/a | Q11: No | R11: n/a | S11: n/a | T11: No | U11: n/a | V11: No | W11: n/a | X11: 1.5 | Y11: 71 | Z11: =(Y11/(X11)^2) -> 31.555556 | AA11: 119 | AB11: 103 | AC11: =AB11/AA11 -> 0.86554622 | AD11: 170/100 | AE11: 104 | AF11: 20 | AG11: 36.4
A12: 10 | B12: 56 | C12: F | D12: Si. | E12: Pr. | F12: Self | G12: 2004 | H12: 10 | I12: 4 | J12: Yes | K12: HTN | L12: B | M12: A | N12: Never | O12: n/a | P12: n/a | Q12: No | R12: n/a | S12: n/a | T12: Yes | U12: Uncle & Auntie | V12: Yes | W12: Uncle & Auntie | X12: 1.52 | Y12: 87 | Z12: =(Y12/(X12)^2) -> 37.655817 | AA12: 121 | AB12: 102 | AC12: =AB12/AA12 -> 0.84297521 | AD12: 130/90 | AE12: 96 | AF12: 18 | AG12: 36.8
A13: 11 | B13: 37 | C13: F | D13: Mar. | E13: Sec. | F13: Self | G13: 2013 | H13: 1 | I13: 4 | J13: Yes | K13: HTN | L13: C | M13: n/a | N13: For. | O13: >1 | P13: <100 | Q13: Yes | R13: 5-10 | S13: 5-10 | T13: Yes | U13: G/pa | V13: No | W13: n/a | X13: 1.76 | Y13: 81 | Z13: =(Y13/(X13)^2) -> 26.149277 | AA13: 41 | AB13: 38 | AC13: =AB13/AA13 -> 0.92682927 | AD13: 150/80 | AE13: 72 | AF13: 20 | AG13: 37.2 | AH13: 4.1
A14: 12 | B14: 56 | C14: F | D14: Mar. | E14: Sec. | F14: Self | G14: 2003 | H14: 11 | I14: 3 | J14: No | K14: n/a | L14: B | M14: B | N14: Never | O14: n/a | P14: n/a | Q14: No | R14: n/a | S14: n/a | T14: Yes | U14: bro/sis | V14: No | W14: n/a | X14: 1.55 | Y14: 76 | Z14: =(Y14/(X14)^2) -> 31.633715 | AA14: 116 | AB14: 101 | AC14: =AB14/AA14 -> 0.87068966 | AD14: 141/87 | AE14: 65 | AF14: 14 | AG14: 37
A15: 13 | B15: 63 | C15: F | D15: Si. | E15: Pr. | F15: Self | G15: 2003 | H15: 11 | I15: 4 | J15: Yes | K15: HTN | L15: C | M15: n/a | N15: Never | O15: n/a | P15: n/a | Q15: No | R15: n/a | S15: n/a | T15: Yes | U15: mum | V15: No | W15: n/a | X15: 1.54 | Y15: 69 | Z15: =(Y15/(X15)^2) -> 29.094282 | AA15: 43 | AB15: 38 | AC15: =AB15/AA15 -> 0.88372093 | AD15: 139/88 | AE15: 77 | AF15: 16 | AG15: 36.8 | AH15: 9.9
A16: 14 | B16: 76 | C16: F | D16: Wid. | E16: Pr. | F16: Rt. | G16: 2007 | H16: 7 | I16: 3 | J16: Yes | K16: HTN/Mental | L16: B | M16: B | N16: Never | O16: n/a | P16: n/a | Q16: No | R16: n/a | S16: n/a | T16: Yes | U16: Bro. | V16: Yes | W16: Bro. | X16: 1.75 | Y16: 76 | Z16: =(Y16/(X16)^2) -> 24.816327 | AA16: 39 | AB16: 45 | AC16: =AB16/AA16 -> 1.1538462 | AD16: 140/80 | AE16: 80 | AF16: 20 | AG16: 37.2 | AH16: 6
A17: 15 | B17: 54 | C17: F | D17: Mar. | E17: Tr. | F17: Emp. | G17: 2010 | H17: 4 | I17: 3 | J17: No | K17: n/a | L17: B | M17: n/a | N17: Never | O17: n/a | P17: n/a | Q17: No | R17: n/a | S17: n/a | T17: Yes | U17: mum | V17: No | W17: n/a | X17: 1.53 | Y17: 74 | Z17: =(Y17/(X17)^2) -> 31.611773 | AA17: 119 | AB17: 105 | AC17: =AB17/AA17 -> 0.88235294 | AD17: 130/80 | AE17: 70 | AF17: 18 | AG17: 37.1 | AH17: 9.5
A18: 16 | B18: 56 | C18: F | D18: Mar. | E18: Sec. | F18: Emp. | G18: 1992 | H18: 22 | I18: 3 | J18: Yes | K18: Arthritis | L18: B | M18: n/a | N18: Never | O18: n/a | P18: n/a | Q18: No | R18: n/a | S18: n/a | T18: No | U18: n/a | V18: No | W18: n/a | X18: 1.5 | Y18: 65 | Z18: =(Y18/(X18)^2) -> 28.888889 | AA18: 38 | AB18: 40 | AC18: =AB18/AA18 -> 1.0526316 | AD18: 130/80 | AE18: 80 | AF18: 16 | AG18: 37.5 | AH18: 14.2
A19: 17 | B19: 56 | C19: F | D19: Wid. | E19: Pr. | F19: Self | G19: 2003 | H19: 11 | I19: 4 | J19: Yes | K19: HIV | L19: B | M19: n/a | N19: Never | O19: n/a | P19: n/a | Q19: No | R19: n/a | S19: n/a | T19: Yes | U19: bro/sis | V19: Yes | W19: Sister | X19: 1.48 | Y19: 61 | Z19: =(Y19/(X19)^2) -> 27.848795 | AA19: 114 | AB19: 102 | AC19: =AB19/AA19 -> 0.89473684 | AD19: 150/80 | AE19: 100 | AF19: 20 | AG19: 35.2 | AH19: 11.1
A20: 18 | B20: 56 | C20: F | D20: Wid. | E20: Pr. | F20: Self | G20: 2004 | H20: 10 | I20: 4 | J20: Yes | K20: HTN | L20: B | M20: n/a | N20: Never | O20: n/a | P20: n/a | Q20: No | R20: n/a | S20: n/a | T20: No | U20: n/a | V20: Yes | W20: bro/sis | X20: 1.67 | Y20: 96 | Z20: =(Y20/(X20)^2) -> 34.422174 | AA20: 42 | AB20: 44 | AC20: =AB20/AA20 -> 1.047619 | AD20: 120/75 | AE20: 68 | AF20: 16 | AG20: 37.4 | AH20: 14.4
A21: 19 | B21: 65 | C21: F | D21: Wid. | E21: Pr. | F21: Rt. | G21: 2008 | H21: 6 | I21: 4 | J21: Yes | K21: HTN | L21: B | M21: A,B | N21: Never | O21: n/a | P21: n/a | Q21: No | R21: n/a | S21: n/a | T21: Yes | U21: Bro. | V21: No | W21: n/a | X21: 1.5 | Y21: 65 | Z21: =(Y21/(X21)^2) -> 28.888889 | AA21: 102 | AB21: 92 | AC21: =AB21/AA21 -> 0.90196078 | AD21: 140/100 | AE21: 80 | AF21: 16 | AG21: 37 | AH21: 25.7
A22: 20 | B22: 59 | C22: F | D22: Mar. | E22: Pr. | F22: Self | G22: 2010 | H22: 4 | I22: 4 | J22: Yes | K22: HTN | L22: B | M22: n/a | N22: Never | O22: n/a | P22: n/a | Q22: No | R22: n/a | S22: n/a | T22: Yes | U22: Dad | V22: No | W22: n/a | X22: 1.69 | Y22: 101 | Z22: =(Y22/(X22)^2) -> 35.362907 | AA22: 43 | AB22: 51 | AC22: =AB22/AA22 -> 1.1860465 | AD22: 150/90 | AE22: 104 | AF22: 16 | AG22: 37 | AH22: 16
A23: 21 | B23: 66 | C23: M | D23: Mar. | E23: Pr. | F23: Rt. | G23: 2007 | H23: 7 | I23: 4 | J23: No | K23: n/a | L23: C | M23: A,B | N23: Never | O23: n/a | P23: n/a | Q23: Yes | R23: 5-10 | S23: 5-10 | T23: Yes | U23: Bro. | V23: No | W23: n/a | X23: 1.65 | Y23: 67 | Z23: =(Y23/(X23)^2) -> 24.609734 | AA23: 95 | AB23: 100 | AC23: =AB23/AA23 -> 1.0526316 | AD23: 140/90 | AE23: 70 | AF23: 20 | AG23: 36.8 | AH23: 3.4
A24: 22 | B24: 45 | C24: M | D24: Sep. | E24: Tr. | F24: Unemp. | G24: 1998 | H24: 16 | I24: 12 | J24: Yes | K24: HTN/CVA | L24: B&C | M24: A,B | N24: For. | O24: >1 | P24: >100 | Q24: No | R24: n/a | S24: n/a | T24: Yes | U24: mum | V24: No | W24: n/a | X24: 1.6 | Y24: 87 | Z24: =(Y24/(X24)^2) -> 33.984375 | AA24: 90 | AB24: 86 | AC24: =AB24/AA24 -> 0.95555556 | AD24: 180/100 | AE24: 76 | AF24: 18 | AG24: 37.2 | AH24: 15
A25: 23 | B25: 61 | C25: M | D25: Mar. | E25: Pr. | F25: Rt. | G25: 2006 | H25: 8 | I25: 3 | J25: No | K25: n/a | L25: C | M25: n/a | N25: For. | O25: <1 | P25: <100 | Q25: Yes | R25: 0 - 5 | S25: 0 - 5 | T25: No | U25: n/a | V25: No | W25: n/a | X25: 1.77 | Y25: 103 | Z25: =(Y25/(X25)^2) -> 32.876887 | AA25: 115 | AB25: 110 | AC25: =AB25/AA25 -> 0.95652174 | AD25: 113/64 | AE25: 80 | AF25: 18 | AG25: 37 | AH25: 8.1
A26: 24 | B26: 23 | C26: M | D26: Si. | E26: Pr. | F26: Unemp. | G26: 2002 | H26: 12 | I26: 4 | J26: Yes | K26: HTN | L26: C | M26: A,B | N26: Never | O26: n/a | P26: n/a | Q26: No | R26: n/a | S26: n/a | T26: Yes | U26: G/pa | V26: No | W26: n/a | X26: 1.52 | Y26: 44 | Z26: =(Y26/(X26)^2) -> 19.044321 | AA26: 33 | AB26: 27 | AC26: =AB26/AA26 -> 0.81818182 | AD26: 145/98 | AE26: 78 | AF26: 16 | AG26: 36.4 | AH26: 5.8
... A46: 44 | B46: 70 | C46: F | D46: Wid. | E46: None | F46: Self | G46: 1985 | H46: 29 | I46: 4 | J46: Yes | K46: HTN | L46: B | M46: n/a | N46: Never | O46: n/a | P46: n/a | Q46: No | R46: n/a | S46: n/a | T46: No | U46: n/a | V46: No | W46: n/a | X46: 1.6 | Y46: 50 | Z46: =(Y46/(X46)^2) -> 19.53125 | AA46: 38 | AB46: 33 | AC46: =AB46/AA46 -> 0.86842105 | AD46: 142/51 | AE46: 80 | AF46: 20 | AG46: 37.2 | AH46: 11.8
A47: 45 | B47: 76 | C47: M | D47: Mar. | E47: Pr. | F47: Rt. | G47: 2011 | H47: 3 | I47: 4 | J47: Yes | K47: HTN | L47: B | M47: n/a | N47: For. | O47: >1 | P47: <100 | Q47: Yes | R47: 0 - 5 | S47: 0 - 5 | T47: No | U47: n/a | V47: Yes | W47: Sister | X47: 1.7 | Y47: 76 | Z47: =(Y47/(X47)^2) -> 26.297578 | AA47: 108 | AB47: 96 | AC47: =AB47/AA47 -> 0.88888889 | AD47: 120/80 | AE47: 76 | AF47: 20 | AG47: 36.8
A48: 46 | B48: 75 | C48: F | D48: Mar. | E48: None | F48: Self | G48: 2010 | H48: 4 | I48: 3 | J48: Yes | K48: HTN | L48: B | M48: B | N48: Never | O48: n/a | P48: n/a | Q48: No | R48: n/a | S48: n/a | T48: No | U48: n/a | V48: No | W48: n/a | X48: 1.6 | Y48: 110 | Z48: =(Y48/(X48)^2) -> 42.96875 | AA48: 138 | AB48: 125 | AC48: =AB48/AA48 -> 0.9057971 | AD48: 140/70 | AE48: 70 | AF48: 20 | AG48: 37.2 | AH48: 10.3
A49: 47 | B49: 25 | C49: F | D49: Si. | E49: Tr. | F49: Unemp. | G49: 1997 | H49: 17 | I49: 4 | J49: Yes | K49: R/blind | L49: C | M49: n/a | N49: Never | O49: n/a | P49: n/a | Q49: No | R49: n/a | S49: n/a | T49: No | U49: n/a | V49: No | W49: n/a | X49: 1.68 | Y49: 68 | Z49: =(Y49/(X49)^2) -> 24.092971 | AA49: 103 | AB49: 83 | AC49: =AB49/AA49 -> 0.80582524 | AD49: 136/91 | AE49: 70 | AF49: 18 | AG49: 37.1 | AH49: 2.6
A50: 48 | B50: 68 | C50: F | D50: Mar. | E50: Pr. | F50: Self | G50: 2007 | H50: 7 | I50: 4 | J50: Yes | K50: HTN/RA | L50: B | M50: B | N50: Never | O50: n/a | P50: n/a | Q50: No | R50: n/a | S50: n/a | T50: No | U50: n/a | V50: No | W50: n/a | X50: 1.56 | Y50: 76 | Z50: =(Y50/(X50)^2) -> 31.229454 | AA50: 46 | AB50: 42 | AC50: =AB50/AA50 -> 0.91304348 | AD50: 170/100 | AE50: 68 | AF50: 16 | AG50: 37.2 | AH50: 16.8
A51: 49 | B51: 58 | C51: F | D51: Mar. | E51: Pr. | F51: Self | G51: 2011 | H51: 3 | I51: 3 | J51: Yes | K51: HTN | L51: B | M51: B | N51: Never | O51: n/a | P51: n/a | Q51: No | R51: n/a | S51: n/a | T51: No | U51: n/a | V51: No | W51: n/a | X51: 1.6 | Y51: 64 | Z51: =(Y51/(X51)^2) -> 25 | AA51: 102 | AB51: 100 | AC51: =AB51/AA51 -> 0.98039216 | AD51: 150/80 | AE51: 66 | AF51: 18 | AG51: 36.8 | AH51: 8.2
A52: 50 | B52: 76 | C52: M | D52: Wid. | E52: Pr. | F52: Rt. | G52: 2006 | H52: 8 | I52: 4 | J52: No | K52: n/a | L52: B | M52: n/a | N52: Never | O52: n/a | P52: n/a | Q52: Yes | R52: 0-5 | S52: 0-5 | T52: No | U52: n/a | V52: No | W52: n/a | X52: 1.76 | Y52: 65 | Z52: =(Y52/(X52)^2) -> 20.983988 | AA52: 97 | AB52: 92 | AC52: =AB52/AA52 -> 0.94845361 | AD52: 130/80 | AE52: 72 | AF52: 16 | AG52: 37 | AH52: 5.4
A53: 51 | B53: 64 | C53: F | D53: Mar. | E53: Pr. | F53: Self | G53: 2014 | H53: 1 | I53: 4 | J53: Yes | K53: HTN | L53: B | M53: A,B | N53: Never | O53: n/a | P53: n/a | Q53: No | R53: n/a | S53: n/a | T53: No | U53: n/a | V53: No | W53: n/a | X53: 1.52 | Y53: 75 | Z53: =(Y53/(X53)^2) -> 32.461911 | AA53: 95 | AB53: 93 | AC53: =AB53/AA53 -> 0.97894737 | AD53: 130/95 | AE53: 80 | AF53: 20 | AG53: 37.1
A54: 52 | B54: 89 | C54: F | D54: Wid. | E54: Pr. | F54: Self | G54: 1999 | H54: 15 | I54: 3 | J54: YES | K54: HTN | L54: B | M54: n/a | N54: Never | O54: n/a | P54: n/a | Q54: No | R54: n/a | S54: n/a | T54: No | U54: n/a | V54: No | W54: n/a | X54: 1.44 | Y54: 47 | Z54: =(Y54/(X54)^2) -> 22.665895 | AA54: 40 | AB54: 37 | AC54: =AB54/AA54 -> 0.925 | AD54: 120/70 | AE54: 70 | AF54: 16 | AG54: 36.8 | AH54: 5.3
A55: 53 | B55: 54 | C55: F | D55: Mar. | E55: Sec. | F55: Emp. | G55: 2003 | H55: 11 | I55: 5 | J55: No | K55: n/a | L55: B, C | M55: A | N55: Never | O55: n/a | P55: n/a | Q55: No | R55: n/a | S55: n/a | T55: Yes | U55: Dad | V55: Yes | W55: Dad | X55: 1.62 | Y55: 64 | Z55: =(Y55/(X55)^2) -> 24.386526 | AA55: 100 | AB55: 92 | AC55: =AB55/AA55 -> 0.92 | AD55: 130/90 | AE55: 70 | AF55: 16 | AG55: 36.4 | AH55: 15.2
A56: 54 | B56: 72 | C56: M | D56: Wid. | E56: Sec. | F56: Rt. | G56: 1975 | H56: 39 | I56: 3 | J56: Yes | K56: HTN | L56: B | M56: n/a | N56: For. | O56: >1 | P56: <100 | Q56: Yes | R56: >10 | S56: 0-5 | T56: Yes | U56: Bro. | V56: Yes | W56: Mum | X56: 1.85 | Y56: 98 | Z56: =(Y56/(X56)^2) -> 28.634039 | AA56: 120 | AB56: 125 | AC56: =AB56/AA56 -> 1.0416667 | AD56: 130/70 | AE56: 80 | AF56: 16 | AG56: 36.8 | AH56: 9
A57: 55 | B57: 60 | C57: F | D57: Si. | E57: None | F57: Self | G57: 2014 | H57: 1 | I57: 4 | J57: Yes | K57: HTN | L57: C | M57: B | N57: Never | O57: n/a | P57: n/a | Q57: No | R57: n/a | S57: n/a | T57: No | U57: n/a | V57: No | W57: n/a | X57: 1.67 | Y57: 60 | Z57: =(Y57/(X57)^2) -> 21.513859 | AA57: 38 | AB57: 34 | AC57: =AB57/AA57 -> 0.89473684 | AD57: 140/70 | AE57: 80 | AF57: 20 | AG57: 36.2 | AH57: 10.4
A58: 56 | B58: 52 | C58: F | D58: Mar. | E58: Pr. | F58: Self | G58: 2014 | H58: 1 | I58: 4 | J58: No | K58: n/a | L58: C | M58: n/a | N58: Never | O58: n/a | P58: n/a | Q58: No | R58: n/a | S58: n/a | T58: No | U58: n/a | V58: No | W58: n/a | X58: 1.62 | Y58: 62 | Z58: =(Y58/(X58)^2) -> 23.624447 | AA58: 104 | AB58: 89 | AC58: =AB58/AA58 -> 0.85576923 | AD58: 130/70 | AE58: 74 | AF58: 16 | AG58: 35 | AH58: 8.4
A59: 57 | B59: 91 | C59: F | D59: Wid. | E59: Pr. | F59: Unemp. | G59: 2011 | H59: 3 | I59: 3 | J59: Yes | K59: HTN | L59: B | M59: A,B | N59: Never | O59: n/a | P59: n/a | Q59: No | R59: n/a | S59: n/a | T59: No | U59: n/a | V59: No | W59: n/a | X59: 1.5 | Y59: 52 | Z59: =(Y59/(X59)^2) -> 23.111111 | AA59: 108 | AB59: 104 | AC59: =AB59/AA59 -> 0.96296296 | AD59: 120/80 | AE59: 62 | AF59: 18 | AG59: 36.4 | AH59: 4.8
...

Sheet Drugs
A1: RESEARCH TREATMENT MODES
A2: No. | B2: Diet | C2: Metformin | D2: Glibenclamide | E2: Pioglitazone | F2: Vitagliptin | G2: Insulin | H2: Ace-i | I2: ARB | J2: B-Blocker | K2: CCB | L2: HCTZ | M2: Aldactone | N2: Lasix | O2: Hydralazine | P2: Methl Dopa | Q2: Digoxin | R2: Pain Killers | S2: Others
A3: =Questionnaire!A3 -> 1 | B3: - | C3: √ | D3: - | E3: - | F3: - | G3: - | H3: √ | I3: - | J3: - | K3: - | L3: √ | M3: - | N3: - | O3: - | P3: - | Q3: - | R3: - | S3: -
A4: =Questionnaire!A4 -> 2 | B4: - | C4: √ | D4: - | E4: - | F4: - | G4: - | H4: √ | I4: - | J4: - | K4: - | L4: √ | M4: - | N4: - | O4: - | P4: - | Q4: - | R4: -
A5: =Questionnaire!A5 -> 3 | B5: - | C5: √ | D5: - | E5: - | F5: - | G5: - | H5: √ | I5: - | J5: - | K5: - | L5: - | M5: - | N5: - | O5: - | P5: - | Q5: - | R5: - | S5: -
A6: =Questionnaire!A6 -> 4 | B6: - | C6: √ | D6: - | E6: - | F6: - | G6: - | H6: - | I6: - | J6: - | K6: - | L6: - | M6: - | N6: - | O6: - | P6: - | Q6: - | R6: - | S6: -
A7: =Questionnaire!A7 -> 5 | B7: - | C7: - | D7: √ | E7: - | F7: - | G7: - | H7: - | I7: - | J7: - | K7: - | L7: - | M7: - | N7: - | O7: - | P7: √ | Q7: - | R7: - | S7: -
A8: =Questionnaire!A8 -> 6 | B8: - | C8: - | D8: - | E8: - | F8: - | G8: √ | H8: - | I8: - | J8: - | K8: - | L8: - | M8: - | N8: - | O8: - | P8: - | Q8: - | R8: - | S8: -
A9: =Questionnaire!A9 -> 7 | B9: - | C9: √ | D9: √ | E9: √ | F9: - | G9: - | H9: - | I9: - | J9: - | K9: - | L9: - | M9: - | N9: - | O9: - | P9: - | Q9: - | R9: - | S9: -
A10: =Questionnaire!A10 -> 8 | B10: - | C10: √ | D10: √ | E10: - | F10: - | G10: - | H10: - | I10: √ | J10: √ | K10: √ | L10: - | M10: - | N10: √ | O10: √ | P10: - | Q10: - | R10: - | S10: -
A11: =Questionnaire!A11 -> 9 | B11: - | C11: √ | D11: √ | E11: √ | F11: - | G11: - | H11: √ | I11: - | J11: - | K11: - | L11: - | M11: - | N11: - | O11: - | P11: - | Q11: - | R11: - | S11: -
A12: =Questionnaire!A12 -> 10 | B12: - | C12: √ | D12: √ | E12: √ | F12: - | G12: - | H12: √ | I12: - | J12: - | K12: - | L12: √ | M12: - | N12: - | O12: - | P12: - | Q12: - | R12: - | S12: -
A13: =Questionnaire!A13 -> 11 | B13: - | C13: - | D13: - | E13: - | F13: - | G13: √ | H13: √ | I13: - | J13: - | K13: - | L13: √ | M13: - | N13: - | O13: - | P13: - | Q13: - | R13: - | S13: -
A14: =Questionnaire!A14 -> 12 | B14: - | C14: √ | D14: √ | E14: - | F14: - | G14: - | H14: √ | I14: - | J14: √ | K14: - | L14: √ | M14: - | N14: - | O14: - | P14: - | Q14: - | R14: - | S14: -
A15: =Questionnaire!A15 -> 13 | B15: - | C15: √ | D15: - | E15: - | F15: - | G15: - | H15: - | I15: √ | J15: √ | K15: - | L15: √ | M15: - | N15: - | O15: - | P15: - | Q15: - | R15: - | S15: -
A16: =Questionnaire!A16 -> 14 | B16: - | C16: √ | D16: - | E16: - | F16: - | G16: - | H16: - | I16: √ | J16: - | K16: - | L16: √ | M16: - | N16: - | O16: - | P16: - | Q16: - | R16: - | S16: √
... A68: =Questionnaire!A68 -> 66 | B68: - | C68: √ | D68: - | E68: - | F68: - | G68: - | H68: - | I68: - | J68: - | K68: √ | L68: - | M68: - | N68: - | O68: - | P68: - | Q68: - | R68: - | S68: -
A69: =Questionnaire!A69 -> 67 | B69: - | C69: √ | D69: - | E69: - | F69: - | G69: - | H69: - | I69: - | J69: - | L69: - | M69: - | N69: - | O69: - | P69: - | Q69: - | R69: - | S69: -
A70: =Questionnaire!A70 -> 68 | B70: - | C70: √ | D70: - | E70: - | F70: - | G70: - | H70: √ | I70: - | J70: √ | K70: √ | L70: - | M70: √ | N70: √ | O70: - | P70: - | Q70: - | R70: - | S70: √
A71: =Questionnaire!A71 -> 69 | B71: - | C71: √ | D71: √ | E71: - | F71: - | G71: - | H71: √ | I71: - | J71: √ | K71: - | L71: - | M71: - | N71: - | O71: - | P71: - | Q71: - | R71: √ | S71: -
A72: =Questionnaire!A72 -> 70 | B72: - | C72: - | D72: - | E72: - | F72: - | G72: √ | H72: - | I72: - | J72: - | K72: - | L72: - | M72: - | N72: - | O72: - | P72: - | Q72: - | R72: - | S72: -
A73: =Questionnaire!A73 -> 71 | B73: - | C73: √ | D73: - | E73: - | F73: - | G73: - | H73: - | I73: - | J73: - | K73: - | L73: - | M73: - | N73: - | O73: - | P73: - | Q73: - | R73: - | S73: -
A74: =Questionnaire!A74 -> 72 | B74: √ | C74: - | D74: - | E74: - | F74: - | G74: - | H74: - | I74: - | J74: - | K74: - | L74: - | M74: - | N74: - | O74: - | P74: - | Q74: - | R74: - | S74: -
A75: =Questionnaire!A75 -> 73 | B75: - | C75: √ | D75: - | E75: - | F75: - | G75: √ | H75: √ | I75: - | J75: √ | K75: √ | L75: - | M75: - | N75: - | O75: - | P75: - | Q75: - | R75: - | S75: √
A76: =Questionnaire!A76 -> 74 | B76: - | C76: - | D76: - | E76: - | F76: - | G76: √ | H76: - | I76: - | J76: - | K76: - | L76: - | M76: - | N76: - | O76: - | P76: - | Q76: - | R76: - | S76: -
A77: =Questionnaire!A77 -> 75 | B77: - | C77: √ | D77: √ | E77: - | F77: - | G77: - | H77: √ | I77: - | J77: - | K77: - | L77: - | M77: - | N77: - | O77: - | P77: - | Q77: - | R77: - | S77: √
A78: =Questionnaire!A78 -> 76 | B78: - | C78: √ | D78: √ | E78: - | F78: - | G78: - | H78: - | I78: √ | J78: - | K78: √ | L78: √ | M78: - | N78: - | O78: - | P78: - | Q78: - | R78: - | S78: √
A79: =Questionnaire!A79 -> 77 | B79: - | C79: √ | D79: - | E79: - | F79: - | G79: - | H79: √ | I79: - | J79: - | K79: - | L79: - | M79: - | N79: - | O79: - | P79: - | Q79: - | R79: - | S79: -
A80: =Questionnaire!A80 -> 78 | B80: - | C80: √ | D80: √ | E80: - | F80: - | G80: - | H80: - | I80: √ | J80: - | K80: √ | L80: √ | M80: - | N80: - | O80: - | P80: - | Q80: - | R80: - | S80: -
A81: =Questionnaire!A81 -> 79 | B81: - | C81: √ | D81: - | E81: - | F81: - | G81: - | H81: - | I81: - | J81: - | K81: - | L81: - | M81: - | N81: - | O81: - | P81: - | Q81: - | R81: - | S81: -
... A203: =Questionnaire!A203 -> 201 | B203: - | C203: √ | D203: √ | E203: - | F203: - | G203: - | H203: - | I203: - | J203: - | K203: - | L203: - | M203: - | N203: - | O203: - | P203: - | Q203: - | R203: - | S203: -
A204: =Questionnaire!A204 -> 202 | B204: - | C204: - | D204: - | E204: - | F204: - | G204: √ | H204: √ | J204: √ | K204: √ | L204: - | M204: - | N204: √ | O204: - | P204: - | Q204: - | R204: - | S204: √
A205: =Questionnaire!A205 -> 203 | B205: - | C205: √ | D205: - | E205: - | F205: - | G205: - | H205: - | I205: √ | J205: √ | K205: - | L205: √ | M205: - | N205: - | O205: - | P205: - | Q205: - | R205: - | S205: -
A206: =Questionnaire!A206 -> 204 | B206: - | C206: √ | D206: - | E206: - | F206: - | G206: √ | H206: - | I206: - | J206: - | K206: - | L206: - | M206: - | N206: - | O206: - | P206: - | Q206: - | R206: - | S206: -
A207: =Questionnaire!A207 -> 205 | B207: - | C207: √ | D207: - | E207: - | F207: - | G207: √ | H207: √ | I207: - | J207: - | K207: √ | L207: - | M207: - | N207: - | O207: - | P207: - | Q207: - | R207: - | S207: -
A208: =Questionnaire!A208 -> 206 | B208: - | C208: √ | D208: - | E208: - | F208: - | G208: √ | H208: - | I208: √ | J208: √ | K208: - | L208: √ | M208: - | N208: - | O208: - | P208: - | Q208: - | R208: - | S208: -
A209: =Questionnaire!A209 -> 207 | B209: - | C209: √ | D209: √ | E209: - | F209: - | G209: - | H209: - | I209: - | J209: - | K209: - | L209: - | M209: - | N209: - | O209: - | P209: - | Q209: - | R209: - | S209: -
A210: =Questionnaire!A210 -> 208 | B210: - | C210: √ | D210: - | E210: - | F210: - | G210: √ | H210: √ | I210: - | J210: - | K210: √ | L210: √ | M210: - | N210: - | O210: - | P210: - | Q210: - | R210: - | S210: √
A211: =Questionnaire!A211 -> 209 | B211: - | C211: √ | D211: - | E211: - | F211: - | G211: - | H211: √ | I211: - | J211: - | K211: √ | L211: √ | M211: - | N211: - | O211: - | P211: - | Q211: - | R211: - | S211: -
A212: =Questionnaire!A212 -> 210 | B212: - | C212: √ | D212: √ | E212: - | F212: - | G212: - | H212: - | I212: - | J212: - | K212: √ | L212: - | M212: - | N212: - | O212: - | P212: - | Q212: - | R212: √ | S212: √
...

Sheet Results
A1: No. | B1: Sex | C1: HbA1c | D1: Albiminuria | E1: T.Cholesterol | F1: HDL | G1: TG | H1: LDL | I1: Creatinine (mmol) | J1: Creatinine (mg) | K1: Urea | L1: eGFR | M1: AC Ratio | N1: Na+ | O1: K+ | P1: CL-
A2: =Questionnaire!A3 -> 1 | B2: M | C2: 0.045 | D2: 51 | E2: 3 | F2: 0.8 | G2: 2 | H2: 3 | I2: =122.6/88.4 -> 1.3868778 | J2: =I2*16 -> 22.190045 | K2: 4.2 | L2: =((140-Questionnaire!B3)*Questionnaire!Y3)/(72*Results!I2) -> 69.400489 | M2: =D2 -> 51 | N2: 153.4 | O2: 6.54 | P2: 117
A3: =Questionnaire!A4 -> 2 | B3: M | C3: 8.5 | D3: 16 | E3: 6 | F3: 1.5 | G3: 3 | H3: 3.9 | I3: 0.9 | J3: =I3*16 -> 14.4 | K3: 16.6 | L3: =((140-Questionnaire!B4)*Questionnaire!Y4)/(72*Results!I3) -> 83.271605 | M3: =D3/J3 -> 1.1111111 | N3: 140 | O3: 4.5 | P3: 86.2
A4: =Questionnaire!A5 -> 3 | B4: M | C4: 0.092 | D4: 29 | E4: 3 | F4: 0.9 | G4: 2 | H4: 2 | I4: =120.8/88.4 -> 1.3665158 | J4: =I4*16 -> 21.864253 | K4: 4.6 | L4: =((140-Questionnaire!B5)*Questionnaire!Y5)/(72*Results!I4) -> 42.687638 | M4: =D4/J4 -> 1.3263659 | N4: 145.1 | O4: 5.16 | P4: 108.2
A5: =Questionnaire!A6 -> 4 | B5: F | C5: 5,2% | D5: 62 | E5: 7 | F5: 1.3 | G5: 2 | H5: 3.4 | I5: =92/88.4 -> 1.040724 | J5: =I5*16 -> 16.651584 | K5: 6.6 | L5: =(((140-Questionnaire!B6)*Questionnaire!Y6)/(72*Results!I5))*0.85 -> 81.424354 | M5: =D5/J5 -> 3.7233696 | N5: 145.3 | O5: 5.18 | P5: 110.4
A6: =Questionnaire!A7 -> 5 | B6: F | C6: 0.068 | D6: 160 | E6: 8 | F6: 1.6 | G6: 2 | H6: 3.4 | I6: =85.64/88.4 -> 0.96877828 | J6: =I6*16 -> 15.500452 | K6: 3.7 | L6: =(((140-Questionnaire!B7)*Questionnaire!Y7)/(72*Results!I6))*0.85 -> 51.242232 | M6: =D6/J6 -> 10.322279 | N6: 148 | O6: 4.2 | P6: 107.9
A7: =Questionnaire!A8 -> 6 | B7: M | C7: 0.065 | D7: 39 | E7: 3 | F7: 1 | G7: 1 | H7: 1.4 | I7: =101.87/88.4 -> 1.1523756 | J7: =I7*16 -> 18.438009 | K7: 4.2 | L7: =((140-Questionnaire!B8)*Questionnaire!Y8)/(72*Results!I7) -> 74.194562 | M7: =D7/J7 -> 2.1151958 | N7: 145.4 | O7: 4.33 | P7: 109.5
A8: =Questionnaire!A9 -> 7 | B8: F | C8: 0.056 | D8: 19 | E8: 4 | F8: 1.4 | G8: 1 | H8: 1.3 | I8: =78.43/88.4 -> 0.88721719 | J8: =I8*16 -> 14.195475 | K8: 2.8 | L8: =(((140-Questionnaire!B9)*Questionnaire!Y9)/(72*Results!I8))*0.85 -> 85.585958 | M8: =D8/J8 -> 1.3384547 | N8: 147.6 | O8: 4.86 | P8: 111.9
A9: =Questionnaire!A10 -> 8 | B9: M | C9: 0.052 | D9: 4 | E9: 3 | F9: 1.1 | G9: 1 | H9: 5.4 | I9: =187.51/88.4 -> 2.1211538 | J9: =I9*16 -> 33.938462 | K9: 12.9 | L9: =((140-Questionnaire!B10)*Questionnaire!Y10)/(72*Results!I9) -> 37.813539 | M9: =D9/J9 -> 0.11786038 | N9: 129.1 | O9: 5.81 | P9: 102
A10: =Questionnaire!A11 -> 9 | B10: F | C10: 0.07 | D10: 80 | E10: 3 | F10: 1.1 | G10: 1 | H10: 2.2 | I10: =281.26/88.4 -> 3.1816742 | J10: =I10*16 -> 50.906787 | K10: 10.1 | L10: =(((140-Questionnaire!B11)*Questionnaire!Y11)/(72*Results!I10))*0.85 -> 17.914223 | M10: =D10/J10 -> 1.5714997 | N10: 143.8 | O10: 6.08 | P10: 110.6
A11: =Questionnaire!A12 -> 10 | B11: F | C11: 0.077 | D11: 8 | E11: 6 | F11: 1.5 | G11: 4 | H11: 2.5 | I11: 0.9 | J11: =I11*16 -> 14.4 | K11: 4.5 | L11: =(((140-Questionnaire!B12)*Questionnaire!Y12)/(72*Results!I11))*0.85 -> 95.861111 | M11: =D11/J11 -> 0.55555556 | N11: 148.2 | O11: 4.8 | P11: 110.1
A12: =Questionnaire!A13 -> 11 | B12: F | C12: 0.041 | D12: 5 | E12: 5 | F12: 0.9 | G12: 3 | H12: 2.2 | I12: =95.56/88.4 -> 1.0809955 | J12: =I12*16 -> 17.295928 | K12: 5.8 | L12: =(((140-Questionnaire!B13)*Questionnaire!Y13)/(72*Results!I12))*0.85 -> 91.113934 | M12: =D12/J12 -> 0.28908539 | N12: 142.8 | O12: 3.59 | P12: 106.4
A13: =Questionnaire!A14 -> 12 | B13: F | C13: 0.08 | D13: 54 | E13: 3 | F13: 1.4 | G13: 1 | H13: 1.6 | I13: =89.25/88.4 -> 1.0096154 | J13: =I13*16 -> 16.153846 | K13: 3.8 | L13: =(((140-Questionnaire!B14)*Questionnaire!Y14)/(72*Results!I13))*0.85 -> 74.648889 | M13: =D13/J13 -> 3.3428571 | N13: 145.4 | O13: 5.51 | P13: 113.9
A14: =Questionnaire!A15 -> 13 | B14: F | C14: 0.078 | D14: 140 | E14: 5 | F14: 1.2 | G14: 1 | H14: 2.2 | I14: =84.74/88.4 -> 0.95859729 | J14: =I14*16 -> 15.337557 | K14: 5.5 | L14: =(((140-Questionnaire!B15)*Questionnaire!Y15)/(72*Results!I14))*0.85 -> 65.431978 | M14: =D14/J14 -> 9.1279207 | N14: 142.3 | O14: 4.41 | P14: 108.1
A15: =Questionnaire!A16 -> 14 | B15: F | C15: 0.062 | D15: 40 | E15: 5 | F15: 1.8 | G15: 1 | H15: 4.9 | I15: =100.96/88.4 -> 1.1420814 | J15: =I15*16 -> 18.273303 | K15: 3.4 | L15: =(((140-Questionnaire!B16)*Questionnaire!Y16)/(72*Results!I15))*0.85 -> 50.27857 | M15: =D15/J15 -> 2.1889857 | N15: 143.9 | O15: 4.45 | P15: 107.9
A16: =Questionnaire!A17 -> 15 | B16: F | C16: 0.048 | D16: 69 | E16: 4 | F16: 1.5 | G16: 3 | H16: 1.2 | I16: =109.08/88.4 -> 1.2339367 | J16: =I16*16 -> 19.742986 | K16: 4.8 | L16: =(((140-Questionnaire!B17)*Questionnaire!Y17)/(72*Results!I16))*0.85 -> 60.886882 | M16: =D16/J16 -> 3.494912 | N16: 147.8 | O16: 5.87 | P16: 112.8
A17: =Questionnaire!A18 -> 16 | B17: F | C17: 0.112 | D17: 29 | E17: 4 | F17: 1.3 | G17: 2 | H17: 2.8 | I17: =95.56/88.4 -> 1.0809955 | J17: =I17*16 -> 17.295928 | K17: 3.5 | L17: =(((140-Questionnaire!B18)*Questionnaire!Y18)/(72*Results!I17))*0.85 -> 59.62868 | M17: =D17/J17 -> 1.6766953 | N17: 146.4 | O17: 4.75 | P17: 109.2
A18: =Questionnaire!A19 -> 17 | B18: F | C18: 0.086 | D18: 18 | E18: 5 | F18: 1.4 | G18: 3 | H18: 2.5 | I18: =76.62/88.4 -> 0.86674208 | J18: =I18*16 -> 13.867873 | K18: 2.5 | L18: =(((140-Questionnaire!B19)*Questionnaire!Y19)/(72*Results!I18))*0.85 -> 69.792004 | M18: =D18/J18 -> 1.297964 | N18: 145 | O18: 4.6 | P18: 110.4
A19: =Questionnaire!A20 -> 18 | B19: F | C19: 0.107 | D19: 74 | E19: 5 | F19: 1.3 | G19: 2 | H19: 3.1 | I19: =99.16/88.4 -> 1.1217195 | J19: =I19*16 -> 17.947511 | K19: 3.1 | L19: =(((140-Questionnaire!B20)*Questionnaire!Y20)/(72*Results!I19))*0.85 -> 84.869706 | M19: =D19/J19 -> 4.1231343 | N19: 143.6 | O19: 4.47 | P19: 105.2
A20: =Questionnaire!A21 -> 19 | B20: F | C20: 0.15 | D20: 100 | E20: 4 | F20: 1.3 | G20: 2 | H20: 1.8 | I20: =99.16/88.4 -> 1.1217195 | J20: =I20*16 -> 17.947511 | K20: 3.7 | L20: =(((140-Questionnaire!B21)*Questionnaire!Y21)/(72*Results!I20))*0.85 -> 51.307021 | M20: =D20/J20 -> 5.5718031 | N20: 140.9 | O20: 4.42 | P20: 106.1
A21: =Questionnaire!A22 -> 20 | B21: F | C21: 0.118 | D21: 71 | E21: 5 | F21: 1.7 | G21: 2 | H21: 2.1 | I21: =92.85/88.4 -> 1.0503394 | J21: =I21*16 -> 16.80543 | K21: 4.3 | L21: =(((140-Questionnaire!B22)*Questionnaire!Y22)/(72*Results!I21))*0.85 -> 91.952423 | M21: =D21/J21 -> 4.224825 | N21: 137.8 | O21: 3.83 | P21: 111.9
A22: =Questionnaire!A23 -> 21 | B22: M | C22: 0.049 | D22: 84 | E22: 3 | F22: 1 | G22: 1 | H22: 2.3 | I22: =200.13/88.4 -> 2.263914 | J22: =I22*16 -> 36.222624 | K22: 9.1 | L22: =((140-Questionnaire!B23)*Questionnaire!Y23)/(72*Results!I22) -> 30.41684 | M22: =D22/J22 -> 2.3189927 | N22: 143.9 | O22: 6.04 | P22: 111.9
A23: =Questionnaire!A24 -> 22 | B23: M | C23: 0.098 | D23: 19 | E23: 4 | F23: 1 | G23: 1.2 | H23: 1,8 | I23: =110/88.4 -> 1.2443439 | J23: =I23*16 -> 19.909502 | K23: 7.1 | L23: =((140-Questionnaire!B24)*Questionnaire!Y24)/(72*Results!I23) -> 92.250758 | M23: =D23/J23 -> 0.95431818 | N23: 138 | O23: 4.1 | P23: 102
A24: =Questionnaire!A25 -> 23 | B24: M | C24: 0.051 | D24: 16 | E24: 8 | F24: 1.6 | G24: 7 | H24: 3.1 | I24: =123.5/88.4 -> 1.3970588 | J24: =I24*16 -> 22.352941 | K24: 5.4 | L24: =((140-Questionnaire!B25)*Questionnaire!Y25)/(72*Results!I24) -> 80.894152 | M24: =D24/J24 -> 0.71578947 | N24: 149.7 | O24: 5.51 | P24: 111.4
A25: =Questionnaire!A26 -> 24 | B25: M | C25: 0.041 | D25: 124 | E25: 4 | F25: 1.2 | G25: 2 | H25: 2.2 | I25: =642.75/88.4 -> 7.2709276 | J25: =I25*16 -> 116.33484 | K25: 26.5 | L25: =((140-Questionnaire!B26)*Questionnaire!Y26)/(72*Results!I25) -> 9.8336834 | M25: =D25/J25 -> 1.0658888 | N25: 140.1 | O25: 5.37 | P25: 103.1
A26: =Questionnaire!A27 -> 25 | B26: F | C26: 0.048 | D26: 58 | E26: 5 | F26: 1.3 | G26: 2 | H26: 2.4 | I26: =90.15/88.4 -> 1.0197964 | J26: =I26*16 -> 16.316742 | K26: 4.9 | L26: =(((140-Questionnaire!B27)*Questionnaire!Y27)/(72*Results!I26))*0.85 -> 71.356837 | M26: =D26/J26 -> 3.5546312 | N26: 144.8 | O26: 4.46 | P26: 107.6
A27: =Questionnaire!A28 -> 26 | B27: F | C27: 0.065 | D27: 62 | E27: 6 | F27: 1.3 | G27: 2 | H27: 2 | I27: =92.85/88.4 -> 1.0503394 | J27: =I27*16 -> 16.80543 | K27: 5.3 | L27: =(((140-Questionnaire!B28)*Questionnaire!Y28)/(72*Results!I27))*0.85 -> 56.648358 | M27: =D27/J27 -> 3.6892838 | N27: 154 | O27: 4.66 | P27: 109.9
A28: =Questionnaire!A29 -> 27 | B28: F | C28: 0.099 | D28: 9 | E28: 6 | F28: 1.9 | G28: 3 | H28: 2.9 | I28: 1.4 | J28: =I28*16 -> 22.4 | K28: 6.4 | L28: =(((140-Questionnaire!B29)*Questionnaire!Y29)/(72*Results!I28))*0.85 -> 26.857639 | M28: =D28/J28 -> 0.40178571 | N28: 138.5 | O28: 5.38 | P28: 106.5
A29: =Questionnaire!A30 -> 28 | B29: F | C29: 0.132 | D29: 60 | E29: 6 | F29: 1.1 | G29: 2 | H29: 4.6 | I29: =123.5/88.4 -> 1.3970588 | J29: =I29*16 -> 22.352941 | K29: 8.5 | L29: =(((140-Questionnaire!B30)*Questionnaire!Y30)/(72*Results!I29))*0.85 -> 34.899708 | M29: =D29/J29 -> 2.6842105 | N29: 134.6 | O29: 5.5 | P29: 102
A30: =Questionnaire!A31 -> 29 | B30: F | C30: 0.072 | D30: 62 | E30: 6 | F30: 1.1 | G30: 4 | H30: 1.5 | I30: =96.46/88.4 -> 1.0911765 | J30: =I30*16 -> 17.458824 | K30: 5.5 | L30: =(((140-Questionnaire!B31)*Questionnaire!Y31)/(72*Results!I30))*0.85 -> 74.262354 | M30: =D30/J30 -> 3.5512129 | N30: 144 | O30: 5.07 | P30: 107
A31: =Questionnaire!A32 -> 30 | B31: M | C31: 0.057 | D31: 160 | E31: 6 | F31: 1.2 | G31: 2 | H31: 1.8 | I31: =78.43/88.4 -> 0.88721719 | J31: =I31*16 -> 14.195475 | K31: 3.6 | L31: =((140-Questionnaire!B32)*Questionnaire!Y32)/(72*Results!I31) -> 88.572825 | M31: =D31/J31 -> 11.271197 | N31: 139.7 | O31: 3.75 | P31: 103.7
A32: =Questionnaire!A33 -> 31 | B32: F | C32: 0.07 | D32: 4 | E32: 4 | F32: 1.2 | G32: 2 | H32: 3.8 | I32: =92.85/88.4 -> 1.0503394 | J32: =I32*16 -> 16.80543 | K32: 4.9 | L32: =(((140-Questionnaire!B33)*Questionnaire!Y33)/(72*Results!I32))*0.85 -> 56.55844 | M32: =D32/J32 -> 0.23801831 | N32: 148.4 | O32: 5.17 | P32: 111.1
A33: =Questionnaire!A34 -> 32 | B33: F | C33: 0.087 | D33: 24 | E33: 5 | F33: 1.3 | G33: 2 | H33: 0.9 | I33: =96.46/88.4 -> 1.0911765 | J33: =I33*16 -> 17.458824 | K33: 3.7 | L33: =(((140-Questionnaire!B34)*Questionnaire!Y34)/(72*Results!I33))*0.85 -> 61.798742 | M33: =D33/J33 -> 1.3746631 | N33: 147.9 | O33: 5.83 | P33: 112.9
A34: =Questionnaire!A35 -> 33 | B34: M | C34: 0.078 | D34: 15 | E34: 3 | F34: 1 | G34: 0 | H34: 1.3 | I34: =111.78/88.4 -> 1.2644796 | J34: =I34*16 -> 20.231674 | K34: 4.6 | L34: =((140-Questionnaire!B35)*Questionnaire!Y35)/(72*Results!I34) -> 69.198425 | M34: =D34/J34 -> 0.7414117 | N34: 148.1 | O34: 4.84 | P34: 110.1
A35: =Questionnaire!A36 -> 34 | B35: F | C35: 0.04 | D35: 4 | E35: 4 | F35: 1.6 | G35: 1 | H35: 2.2 | I35: =68.51/88.4 -> 0.775 | J35: =I35*16 -> 12.4 | K35: 4.4 | L35: =(((140-Questionnaire!B36)*Questionnaire!Y36)/(72*Results!I35))*0.85 -> 51.106631 | M35: =D35/J35 -> 0.32258065 | N35: 137 | O35: 5.52 | P35: 104.8
A36: =Questionnaire!A37 -> 35 | B36: F | C36: 0.057 | D36: 19 | E36: 4 | F36: 1 | G36: 2 | H36: 1.9 | I36: 1.1 | J36: =I36*16 -> 17.6 | K36: 3.2 | L36: =(((140-Questionnaire!B37)*Questionnaire!Y37)/(72*Results!I36))*0.85 -> 97.42803 | M36: =D36/J36 -> 1.0795455 | N36: 150 | O36: 4.13 | P36: 112.3
A37: =Questionnaire!A38 -> 36 | B37: F | C37: 0.068 | D37: 5 | E37: 4 | F37: 1.2 | G37: 1 | H37: 3.3 | I37: =85.64/88.4 -> 0.96877828 | J37: =I37*16 -> 15.500452 | K37: 3.6 | L37: =(((140-Questionnaire!B38)*Questionnaire!Y38)/(72*Results!I37))*0.85 -> 68.387968 | M37: =D37/J37 -> 0.32257123 | N37: 143.3 | O37: 4.21 | P37: 108.1
A38: =Questionnaire!A39 -> 37 | B38: M | C38: 0.075 | D38: 23 | E38: 5 | F38: 1.1 | G38: 2 | H38: 1.7 | I38: =115.39/88.4 -> 1.3053167 | J38: =I38*16 -> 20.885068 | K38: 4.3 | L38: =((140-Questionnaire!B39)*Questionnaire!Y39)/(72*Results!I38) -> 97.539119 | M38: =D38/J38 -> 1.1012653 | N38: 150.1 | O38: 4.43 | P38: 112.4
A39: =Questionnaire!A40 -> 38 | B39: F | C39: 0.126 | D39: 4 | E39: 5 | F39: 1.4 | G39: 2 | H39: 1.6 | I39: =86.54/88.4 -> 0.97895928 | J39: =I39*16 -> 15.663348 | K39: 4.7 | L39: =(((140-Questionnaire!B40)*Questionnaire!Y40)/(72*Results!I39))*0.85 -> 92.904784 | M39: =D39/J39 -> 0.25537324 | N39: 147.2 | O39: 3.74 | P39: 110.4
A40: =Questionnaire!A41 -> 39 | B40: F | C40: 0.041 | D40: 11 | E40: 5 | F40: 1.2 | G40: 1 | H40: 3.6 | I40: =144.23/88.4 -> 1.6315611 | J40: =I40*16 -> 26.104977 | K40: 5.9 | L40: =(((140-Questionnaire!B41)*Questionnaire!Y41)/(72*Results!I40))*0.85 -> 48.45053 | M40: =D40/J40 -> 0.42137558 | N40: 147.2 | O40: 5.5 | P40: 110.2
...
