Workbook

Sheet Questionnaire
A1: SUMMARY OF DATA COLLECTED FROM PATIENTS ATTENDING CLINIC AT THE NYERI PROVINCIAL HOSPITAL
A2: No. | B2: Age | C2: Sex | D2: Marital Status | E2: Education | F2: Employment | G2: YOD | H2: DOF (yrs) | I2: clinic frequency | J2: cormorbidity | K2: comorbid type | L2: DM Rx | M2: Other meds | N2: Smoking Hx | O2: Smoking Duration | P2: No.of sticks/lifetime | Q2: Alcohol Hx | R2: alcohol duration | S2: Alcohol Amount | T2: FHx of DM | U2: Relative | V2: Hx of HTN | W2: Relative | X2: Height (m) | Y2: Weight (Kg) | Z2: BMI | AA2: HC | AB2: WC | AC2: WHR | AD2: BP | AE2: PR | AF2: RR | AG2: TEMP | AH2: RBS
A3: 1 | B3: 63 | C3: M | D3: Mar. | E3: Pr. | F3: Rt. | G3: 2004 | H3: 11 | I3: 4 | J3: Yes | K3: HTN | L3: B | M3: A,B | N3: For. | O3: >1 | P3: <100 | Q3: No | R3: n/a | S3: n/a | T3: No | U3: n/a | V3: No | W3: n/a | X3: 1.85 | Y3: 90 | Z3: =(Y3/(X3)^2) -> 26.296567 | AA3: 40 | AB3: 44 | AC3: =AB3/AA3 -> 1.1 | AD3: 160/90 | AE3: 80 | AF3: 16 | AG3: 37
A4: 2 | B4: 64 | C4: M | D4: Mar. | E4: Pr. | F4: Rt. | G4: 2011 | H4: 4 | I4: 4 | J4: Yes | K4: HTN | L4: B | M4: A,B | N4: For. | O4: >1 | P4: <100 | Q4: Yes | R4: >10 | S4: 0-5 | T4: No | U4: n/a | V4: No | W4: n/a | X4: 1.65 | Y4: 71 | Z4: =(Y4/(X4)^2) -> 26.078972 | AA4: 38 | AB4: 40 | AC4: =AB4/AA4 -> 1.0526316 | AD4: 110/70 | AE4: 80 | AF4: 14 | AG4: 36.4
A5: 3 | B5: 80 | C5: M | D5: Mar. | E5: Pr. | F5: Rt. | G5: 1983 | H5: 31 | I5: 4 | J5: Yes | K5: HTN | L5: B | M5: A,B | N5: For. | O5: >1 | P5: <100 | Q5: Yes | R5: >10 | S5: 5-10 | T5: No | U5: n/a | V5: No | W5: n/a | X5: 1.67 | Y5: 70 | Z5: =(Y5/(X5)^2) -> 25.099502 | AA5: 39 | AB5: 43 | AC5: =AB5/AA5 -> 1.1025641 | AD5: 182/94 | AE5: 94 | AF5: 18 | AG5: 36.9 | AH5: 11.9
A6: 4 | B6: 43 | C6: F | D6: Mar. | E6: Pr. | F6: Rt. | G6: 2013 | H6: 1 | I6: 3 | J6: No | K6: n/a | L6: B | M6: A,B | N6: Never | O6: n/a | P6: n/a | Q6: No | R6: n/a | S6: n/a | T6: No | U6: n/a | V6: No | W6: n/a | X6: 1.65 | Y6: 74 | Z6: =(Y6/(X6)^2) -> 27.1809 | AA6: 117 | AB6: 94 | AC6: =AB6/AA6 -> 0.8034188 | AD6: 110/70 | AE6: 60 | AF6: 12 | AG6: 37.1
A7: 5 | B7: 82 | C7: F | D7: Mar. | E7: Tr. | F7: Rt. | G7: 2010 | H7: 4 | I7: 3 | J7: Yes | K7: HTN | L7: B | M7: n/a | N7: Never | O7: n/a | P7: n/a | Q7: No | R7: n/a | S7: n/a | T7: No | U7: n/a | V7: No | W7: n/a | X7: 1.48 | Y7: 72.5 | Z7: =(Y7/(X7)^2) -> 33.098977 | AA7: 42 | AB7: 38 | AC7: =AB7/AA7 -> 0.9047619 | AD7: 200/100 | AE7: 86 | AF7: 20 | AG7: 37.2 | AH7: 8.1
A8: 6 | B8: 32 | C8: M | D8: Si. | E8: Sec. | F8: None | G8: 2012 | H8: 2 | I8: 7 | J8: No | K8: n/a | L8: C | M8: n/a | N8: Never | O8: n/a | P8: n/a | Q8: No | R8: n/a | S8: n/a | T8: No | U8: n/a | V8: No | W8: n/a | X8: 1.62 | Y8: 57 | Z8: =(Y8/(X8)^2) -> 21.71925 | AA8: 84 | AB8: 91 | AC8: =AB8/AA8 -> 1.0833333 | AD8: 110/70 | AE8: 80 | AF8: 16 | AG8: 36.4
A9: 7 | B9: 44 | C9: F | D9: Mar. | E9: Sec. | F9: Self | G9: 2012 | H9: 2 | I9: 3 | J9: No | K9: n/a | L9: B | M9: n/a | N9: Never | O9: n/a | P9: n/a | Q9: No | R9: n/a | S9: n/a | T9: No | U9: n/a | V9: No | W9: n/a | X9: 1.54 | Y9: 67 | Z9: =(Y9/(X9)^2) -> 28.25097 | AA9: 38 | AB9: 35 | AC9: =AB9/AA9 -> 0.92105263 | AD9: 125/81 | AE9: 87 | AF9: 18 | AG9: 37 | AH9: 7
A10: 8 | B10: 63 | C10: M | D10: Mar. | E10: Sec. | F10: Rt. | G10: 1999 | H10: 15 | I10: 4 | J10: Yes | K10: HTN | L10: B | M10: n/a | N10: For. | O10: >1 | P10: >100 | Q10: No | R10: n/a | S10: n/a | T10: Yes | U10: Sister | V10: Yes | W10: Sister | X10: 1.54 | Y10: 75 | Z10: =(Y10/(X10)^2) -> 31.62422 | AA10: 41 | AB10: 44 | AC10: =AB10/AA10 -> 1.0731707 | AD10: 150/80 | AE10: 78 | AF10: 16 | AG10: 37.1 | AH10: 7.8
A11: 9 | B11: 72 | C11: F | D11: Wid. | E11: None | F11: Unemp. | G11: 2009 | H11: 5 | I11: 4 | J11: No | K11: n/a | L11: B | M11: A,B | N11: Never | O11: n/a | P11: n/a | Q11: No | R11: n/a | S11: n/a | T11: No | U11: n/a | V11: No | W11: n/a | X11: 1.5 | Y11: 71 | Z11: =(Y11/(X11)^2) -> 31.555556 | AA11: 119 | AB11: 103 | AC11: =AB11/AA11 -> 0.86554622 | AD11: 170/100 | AE11: 104 | AF11: 20 | AG11: 36.4
A12: 10 | B12: 56 | C12: F | D12: Si. | E12: Pr. | F12: Self | G12: 2004 | H12: 10 | I12: 4 | J12: Yes | K12: HTN | L12: B | M12: A | N12: Never | O12: n/a | P12: n/a | Q12: No | R12: n/a | S12: n/a | T12: Yes | U12: Uncle & Auntie | V12: Yes | W12: Uncle & Auntie | X12: 1.52 | Y12: 87 | Z12: =(Y12/(X12)^2) -> 37.655817 | AA12: 121 | AB12: 102 | AC12: =AB12/AA12 -> 0.84297521 | AD12: 130/90 | AE12: 96 | AF12: 18 | AG12: 36.8
A13: 11 | B13: 37 | C13: F | D13: Mar. | E13: Sec. | F13: Self | G13: 2013 | H13: 1 | I13: 4 | J13: Yes | K13: HTN | L13: C | M13: n/a | N13: For. | O13: >1 | P13: <100 | Q13: Yes | R13: 5-10 | S13: 5-10 | T13: Yes | U13: G/pa | V13: No | W13: n/a | X13: 1.76 | Y13: 81 | Z13: =(Y13/(X13)^2) -> 26.149277 | AA13: 41 | AB13: 38 | AC13: =AB13/AA13 -> 0.92682927 | AD13: 150/80 | AE13: 72 | AF13: 20 | AG13: 37.2 | AH13: 4.1
A14: 12 | B14: 56 | C14: F | D14: Mar. | E14: Sec. | F14: Self | G14: 2003 | H14: 11 | I14: 3 | J14: No | K14: n/a | L14: B | M14: B | N14: Never | O14: n/a | P14: n/a | Q14: No | R14: n/a | S14: n/a | T14: Yes | U14: bro/sis | V14: No | W14: n/a | X14: 1.55 | Y14: 76 | Z14: =(Y14/(X14)^2) -> 31.633715 | AA14: 116 | AB14: 101 | AC14: =AB14/AA14 -> 0.87068966 | AD14: 141/87 | AE14: 65 | AF14: 14 | AG14: 37
A15: 13 | B15: 63 | C15: F | D15: Si. | E15: Pr. | F15: Self | G15: 2003 | H15: 11 | I15: 4 | J15: Yes | K15: HTN | L15: C | M15: n/a | N15: Never | O15: n/a | P15: n/a | Q15: No | R15: n/a | S15: n/a | T15: Yes | U15: mum | V15: No | W15: n/a | X15: 1.54 | Y15: 69 | Z15: =(Y15/(X15)^2) -> 29.094282 | AA15: 43 | AB15: 38 | AC15: =AB15/AA15 -> 0.88372093 | AD15: 139/88 | AE15: 77 | AF15: 16 | AG15: 36.8 | AH15: 9.9
A16: 14 | B16: 76 | C16: F | D16: Wid. | E16: Pr. | F16: Rt. | G16: 2007 | H16: 7 | I16: 3 | J16: Yes | K16: HTN/Mental | L16: B | M16: B | N16: Never | O16: n/a | P16: n/a | Q16: No | R16: n/a | S16: n/a | T16: Yes | U16: Bro. | V16: Yes | W16: Bro. | X16: 1.75 | Y16: 76 | Z16: =(Y16/(X16)^2) -> 24.816327 | AA16: 39 | AB16: 45 | AC16: =AB16/AA16 -> 1.1538462 | AD16: 140/80 | AE16: 80 | AF16: 20 | AG16: 37.2 | AH16: 6
A17: 15 | B17: 54 | C17: F | D17: Mar. | E17: Tr. | F17: Emp. | G17: 2010 | H17: 4 | I17: 3 | J17: No | K17: n/a | L17: B | M17: n/a | N17: Never | O17: n/a | P17: n/a | Q17: No | R17: n/a | S17: n/a | T17: Yes | U17: mum | V17: No | W17: n/a | X17: 1.53 | Y17: 74 | Z17: =(Y17/(X17)^2) -> 31.611773 | AA17: 119 | AB17: 105 | AC17: =AB17/AA17 -> 0.88235294 | AD17: 130/80 | AE17: 70 | AF17: 18 | AG17: 37.1 | AH17: 9.5
A18: 16 | B18: 56 | C18: F | D18: Mar. | E18: Sec. | F18: Emp. | G18: 1992 | H18: 22 | I18: 3 | J18: Yes | K18: Arthritis | L18: B | M18: n/a | N18: Never | O18: n/a | P18: n/a | Q18: No | R18: n/a | S18: n/a | T18: No | U18: n/a | V18: No | W18: n/a | X18: 1.5 | Y18: 65 | Z18: =(Y18/(X18)^2) -> 28.888889 | AA18: 38 | AB18: 40 | AC18: =AB18/AA18 -> 1.0526316 | AD18: 130/80 | AE18: 80 | AF18: 16 | AG18: 37.5 | AH18: 14.2
A19: 17 | B19: 56 | C19: F | D19: Wid. | E19: Pr. | F19: Self | G19: 2003 | H19: 11 | I19: 4 | J19: Yes | K19: HIV | L19: B | M19: n/a | N19: Never | O19: n/a | P19: n/a | Q19: No | R19: n/a | S19: n/a | T19: Yes | U19: bro/sis | V19: Yes | W19: Sister | X19: 1.48 | Y19: 61 | Z19: =(Y19/(X19)^2) -> 27.848795 | AA19: 114 | AB19: 102 | AC19: =AB19/AA19 -> 0.89473684 | AD19: 150/80 | AE19: 100 | AF19: 20 | AG19: 35.2 | AH19: 11.1
A20: 18 | B20: 56 | C20: F | D20: Wid. | E20: Pr. | F20: Self | G20: 2004 | H20: 10 | I20: 4 | J20: Yes | K20: HTN | L20: B | M20: n/a | N20: Never | O20: n/a | P20: n/a | Q20: No | R20: n/a | S20: n/a | T20: No | U20: n/a | V20: Yes | W20: bro/sis | X20: 1.67 | Y20: 96 | Z20: =(Y20/(X20)^2) -> 34.422174 | AA20: 42 | AB20: 44 | AC20: =AB20/AA20 -> 1.047619 | AD20: 120/75 | AE20: 68 | AF20: 16 | AG20: 37.4 | AH20: 14.4
A21: 19 | B21: 65 | C21: F | D21: Wid. | E21: Pr. | F21: Rt. | G21: 2008 | H21: 6 | I21: 4 | J21: Yes | K21: HTN | L21: B | M21: A,B | N21: Never | O21: n/a | P21: n/a | Q21: No | R21: n/a | S21: n/a | T21: Yes | U21: Bro. | V21: No | W21: n/a | X21: 1.5 | Y21: 65 | Z21: =(Y21/(X21)^2) -> 28.888889 | AA21: 102 | AB21: 92 | AC21: =AB21/AA21 -> 0.90196078 | AD21: 140/100 | AE21: 80 | AF21: 16 | AG21: 37 | AH21: 25.7
A22: 20 | B22: 59 | C22: F | D22: Mar. | E22: Pr. | F22: Self | G22: 2010 | H22: 4 | I22: 4 | J22: Yes | K22: HTN | L22: B | M22: n/a | N22: Never | O22: n/a | P22: n/a | Q22: No | R22: n/a | S22: n/a | T22: Yes | U22: Dad | V22: No | W22: n/a | X22: 1.69 | Y22: 101 | Z22: =(Y22/(X22)^2) -> 35.362907 | AA22: 43 | AB22: 51 | AC22: =AB22/AA22 -> 1.1860465 | AD22: 150/90 | AE22: 104 | AF22: 16 | AG22: 37 | AH22: 16
A23: 21 | B23: 66 | C23: M | D23: Mar. | E23: Pr. | F23: Rt. | G23: 2007 | H23: 7 | I23: 4 | J23: No | K23: n/a | L23: C | M23: A,B | N23: Never | O23: n/a | P23: n/a | Q23: Yes | R23: 5-10 | S23: 5-10 | T23: Yes | U23: Bro. | V23: No | W23: n/a | X23: 1.65 | Y23: 67 | Z23: =(Y23/(X23)^2) -> 24.609734 | AA23: 95 | AB23: 100 | AC23: =AB23/AA23 -> 1.0526316 | AD23: 140/90 | AE23: 70 | AF23: 20 | AG23: 36.8 | AH23: 3.4
A24: 22 | B24: 45 | C24: M | D24: Sep. | E24: Tr. | F24: Unemp. | G24: 1998 | H24: 16 | I24: 12 | J24: Yes | K24: HTN/CVA | L24: B&C | M24: A,B | N24: For. | O24: >1 | P24: >100 | Q24: No | R24: n/a | S24: n/a | T24: Yes | U24: mum | V24: No | W24: n/a | X24: 1.6 | Y24: 87 | Z24: =(Y24/(X24)^2) -> 33.984375 | AA24: 90 | AB24: 86 | AC24: =AB24/AA24 -> 0.95555556 | AD24: 180/100 | AE24: 76 | AF24: 18 | AG24: 37.2 | AH24: 15
A25: 23 | B25: 61 | C25: M | D25: Mar. | E25: Pr. | F25: Rt. | G25: 2006 | H25: 8 | I25: 3 | J25: No | K25: n/a | L25: C | M25: n/a | N25: For. | O25: <1 | P25: <100 | Q25: Yes | R25: 0 - 5 | S25: 0 - 5 | T25: No | U25: n/a | V25: No | W25: n/a | X25: 1.77 | Y25: 103 | Z25: =(Y25/(X25)^2) -> 32.876887 | AA25: 115 | AB25: 110 | AC25: =AB25/AA25 -> 0.95652174 | AD25: 113/64 | AE25: 80 | AF25: 18 | AG25: 37 | AH25: 8.1
A26: 24 | B26: 23 | C26: M | D26: Si. | E26: Pr. | F26: Unemp. | G26: 2002 | H26: 12 | I26: 4 | J26: Yes | K26: HTN | L26: C | M26: A,B | N26: Never | O26: n/a | P26: n/a | Q26: No | R26: n/a | S26: n/a | T26: Yes | U26: G/pa | V26: No | W26: n/a | X26: 1.52 | Y26: 44 | Z26: =(Y26/(X26)^2) -> 19.044321 | AA26: 33 | AB26: 27 | AC26: =AB26/AA26 -> 0.81818182 | AD26: 145/98 | AE26: 78 | AF26: 16 | AG26: 36.4 | AH26: 5.8
... A46: 44 | B46: 70 | C46: F | D46: Wid. | E46: None | F46: Self | G46: 1985 | H46: 29 | I46: 4 | J46: Yes | K46: HTN | L46: B | M46: n/a | N46: Never | O46: n/a | P46: n/a | Q46: No | R46: n/a | S46: n/a | T46: No | U46: n/a | V46: No | W46: n/a | X46: 1.6 | Y46: 50 | Z46: =(Y46/(X46)^2) -> 19.53125 | AA46: 38 | AB46: 33 | AC46: =AB46/AA46 -> 0.86842105 | AD46: 142/51 | AE46: 80 | AF46: 20 | AG46: 37.2 | AH46: 11.8
A47: 45 | B47: 76 | C47: M | D47: Mar. | E47: Pr. | F47: Rt. | G47: 2011 | H47: 3 | I47: 4 | J47: Yes | K47: HTN | L47: B | M47: n/a | N47: For. | O47: >1 | P47: <100 | Q47: Yes | R47: 0 - 5 | S47: 0 - 5 | T47: No | U47: n/a | V47: Yes | W47: Sister | X47: 1.7 | Y47: 76 | Z47: =(Y47/(X47)^2) -> 26.297578 | AA47: 108 | AB47: 96 | AC47: =AB47/AA47 -> 0.88888889 | AD47: 120/80 | AE47: 76 | AF47: 20 | AG47: 36.8
A48: 46 | B48: 75 | C48: F | D48: Mar. | E48: None | F48: Self | G48: 2010 | H48: 4 | I48: 3 | J48: Yes | K48: HTN | L48: B | M48: B | N48: Never | O48: n/a | P48: n/a | Q48: No | R48: n/a | S48: n/a | T48: No | U48: n/a | V48: No | W48: n/a | X48: 1.6 | Y48: 110 | Z48: =(Y48/(X48)^2) -> 42.96875 | AA48: 138 | AB48: 125 | AC48: =AB48/AA48 -> 0.9057971 | AD48: 140/70 | AE48: 70 | AF48: 20 | AG48: 37.2 | AH48: 10.3
A49: 47 | B49: 25 | C49: F | D49: Si. | E49: Tr. | F49: Unemp. | G49: 1997 | H49: 17 | I49: 4 | J49: Yes | K49: R/blind | L49: C | M49: n/a | N49: Never | O49: n/a | P49: n/a | Q49: No | R49: n/a | S49: n/a | T49: No | U49: n/a | V49: No | W49: n/a | X49: 1.68 | Y49: 68 | Z49: =(Y49/(X49)^2) -> 24.092971 | AA49: 103 | AB49: 83 | AC49: =AB49/AA49 -> 0.80582524 | AD49: 136/91 | AE49: 70 | AF49: 18 | AG49: 37.1 | AH49: 2.6
A50: 48 | B50: 68 | C50: F | D50: Mar. | E50: Pr. | F50: Self | G50: 2007 | H50: 7 | I50: 4 | J50: Yes | K50: HTN/RA | L50: B | M50: B | N50: Never | O50: n/a | P50: n/a | Q50: No | R50: n/a | S50: n/a | T50: No | U50: n/a | V50: No | W50: n/a | X50: 1.56 | Y50: 76 | Z50: =(Y50/(X50)^2) -> 31.229454 | AA50: 46 | AB50: 42 | AC50: =AB50/AA50 -> 0.91304348 | AD50: 170/100 | AE50: 68 | AF50: 16 | AG50: 37.2 | AH50: 16.8
A51: 49 | B51: 58 | C51: F | D51: Mar. | E51: Pr. | F51: Self | G51: 2011 | H51: 3 | I51: 3 | J51: Yes | K51: HTN | L51: B | M51: B | N51: Never | O51: n/a | P51: n/a | Q51: No | R51: n/a | S51: n/a | T51: No | U51: n/a | V51: No | W51: n/a | X51: 1.6 | Y51: 64 | Z51: =(Y51/(X51)^2) -> 25 | AA51: 102 | AB51: 100 | AC51: =AB51/AA51 -> 0.98039216 | AD51: 150/80 | AE51: 66 | AF51: 18 | AG51: 36.8 | AH51: 8.2
A52: 50 | B52: 76 | C52: M | D52: Wid. | E52: Pr. | F52: Rt. | G52: 2006 | H52: 8 | I52: 4 | J52: No | K52: n/a | L52: B | M52: n/a | N52: Never | O52: n/a | P52: n/a | Q52: Yes | R52: 0-5 | S52: 0-5 | T52: No | U52: n/a | V52: No | W52: n/a | X52: 1.76 | Y52: 65 | Z52: =(Y52/(X52)^2) -> 20.983988 | AA52: 97 | AB52: 92 | AC52: =AB52/AA52 -> 0.94845361 | AD52: 130/80 | AE52: 72 | AF52: 16 | AG52: 37 | AH52: 5.4
A53: 51 | B53: 64 | C53: F | D53: Mar. | E53: Pr. | F53: Self | G53: 2014 | H53: 1 | I53: 4 | J53: Yes | K53: HTN | L53: B | M53: A,B | N53: Never | O53: n/a | P53: n/a | Q53: No | R53: n/a | S53: n/a | T53: No | U53: n/a | V53: No | W53: n/a | X53: 1.52 | Y53: 75 | Z53: =(Y53/(X53)^2) -> 32.461911 | AA53: 95 | AB53: 93 | AC53: =AB53/AA53 -> 0.97894737 | AD53: 130/95 | AE53: 80 | AF53: 20 | AG53: 37.1
A54: 52 | B54: 89 | C54: F | D54: Wid. | E54: Pr. | F54: Self | G54: 1999 | H54: 15 | I54: 3 | J54: YES | K54: HTN | L54: B | M54: n/a | N54: Never | O54: n/a | P54: n/a | Q54: No | R54: n/a | S54: n/a | T54: No | U54: n/a | V54: No | W54: n/a | X54: 1.44 | Y54: 47 | Z54: =(Y54/(X54)^2) -> 22.665895 | AA54: 40 | AB54: 37 | AC54: =AB54/AA54 -> 0.925 | AD54: 120/70 | AE54: 70 | AF54: 16 | AG54: 36.8 | AH54: 5.3
A55: 53 | B55: 54 | C55: F | D55: Mar. | E55: Sec. | F55: Emp. | G55: 2003 | H55: 11 | I55: 5 | J55: No | K55: n/a | L55: B, C | M55: A | N55: Never | O55: n/a | P55: n/a | Q55: No | R55: n/a | S55: n/a | T55: Yes | U55: Dad | V55: Yes | W55: Dad | X55: 1.62 | Y55: 64 | Z55: =(Y55/(X55)^2) -> 24.386526 | AA55: 100 | AB55: 92 | AC55: =AB55/AA55 -> 0.92 | AD55: 130/90 | AE55: 70 | AF55: 16 | AG55: 36.4 | AH55: 15.2
A56: 54 | B56: 72 | C56: M | D56: Wid. | E56: Sec. | F56: Rt. | G56: 1975 | H56: 39 | I56: 3 | J56: Yes | K56: HTN | L56: B | M56: n/a | N56: For. | O56: >1 | P56: <100 | Q56: Yes | R56: >10 | S56: 0-5 | T56: Yes | U56: Bro. | V56: Yes | W56: Mum | X56: 1.85 | Y56: 98 | Z56: =(Y56/(X56)^2) -> 28.634039 | AA56: 120 | AB56: 125 | AC56: =AB56/AA56 -> 1.0416667 | AD56: 130/70 | AE56: 80 | AF56: 16 | AG56: 36.8 | AH56: 9
A57: 55 | B57: 60 | C57: F | D57: Si. | E57: None | F57: Self | G57: 2014 | H57: 1 | I57: 4 | J57: Yes | K57: HTN | L57: C | M57: B | N57: Never | O57: n/a | P57: n/a | Q57: No | R57: n/a | S57: n/a | T57: No | U57: n/a | V57: No | W57: n/a | X57: 1.67 | Y57: 60 | Z57: =(Y57/(X57)^2) -> 21.513859 | AA57: 38 | AB57: 34 | AC57: =AB57/AA57 -> 0.89473684 | AD57: 140/70 | AE57: 80 | AF57: 20 | AG57: 36.2 | AH57: 10.4
A58: 56 | B58: 52 | C58: F | D58: Mar. | E58: Pr. | F58: Self | G58: 2014 | H58: 1 | I58: 4 | J58: No | K58: n/a | L58: C | M58: n/a | N58: Never | O58: n/a | P58: n/a | Q58: No | R58: n/a | S58: n/a | T58: No | U58: n/a | V58: No | W58: n/a | X58: 1.62 | Y58: 62 | Z58: =(Y58/(X58)^2) -> 23.624447 | AA58: 104 | AB58: 89 | AC58: =AB58/AA58 -> 0.85576923 | AD58: 130/70 | AE58: 74 | AF58: 16 | AG58: 35 | AH58: 8.4
A59: 57 | B59: 91 | C59: F | D59: Wid. | E59: Pr. | F59: Unemp. | G59: 2011 | H59: 3 | I59: 3 | J59: Yes | K59: HTN | L59: B | M59: A,B | N59: Never | O59: n/a | P59: n/a | Q59: No | R59: n/a | S59: n/a | T59: No | U59: n/a | V59: No | W59: n/a | X59: 1.5 | Y59: 52 | Z59: =(Y59/(X59)^2) -> 23.111111 | AA59: 108 | AB59: 104 | AC59: =AB59/AA59 -> 0.96296296 | AD59: 120/80 | AE59: 62 | AF59: 18 | AG59: 36.4 | AH59: 4.8
A60: 58 | B60: 62 | C60: F | D60: Wid. | E60: Pr. | F60: Rt. | G60: 2013 | H60: 1 | I60: 5 | J60: Yes | K60: HTN | L60: B | M60: A,B | N60: Never | O60: n/a | P60: n/a | Q60: No | R60: n/a | S60: n/a | T60: Yes | U60: Sister | V60: Yes | W60: Sister | X60: 1.6 | Y60: 82 | Z60: =(Y60/(X60)^2) -> 32.03125 | AA60: 126 | AB60: 115 | AC60: =AB60/AA60 -> 0.91269841 | AD60: 140/70 | AE60: 68 | AF60: 16 | AG60: 37 | AH60: 9
A61: 59 | B61: 65 | C61: F | D61: Mar. | E61: Pr. | F61: Unemp. | G61: 2011 | H61: 3 | I61: 4 | J61: No | K61: n/a | L61: B | M61: A | N61: Never | O61: n/a | P61: n/a | Q61: No | R61: n/a | S61: n/a | T61: No | U61: n/a | V61: No | W61: n/a | X61: 1.67 | Y61: 57 | Z61: =(Y61/(X61)^2) -> 20.438166 | AA61: 102 | AB61: 83 | AC61: =AB61/AA61 -> 0.81372549 | AD61: 140/70 | AE61: 76 | AF61: 14 | AG61: 36.8 | AH61: 10
A62: 60 | B62: 73 | C62: M | D62: Mar. | E62: Pr. | F62: Unemp. | G62: 1988 | H62: 26 | I62: 4 | J62: Yes | K62: eye | L62: B | M62: A,B | N62: For. | O62: >1 | P62: <100 | Q62: Yes | R62: 0 - 5 | S62: 0 - 5 | T62: Yes | U62: 2 Sons | V62: No | W62: n/a | X62: 1.6 | Y62: 60 | Z62: =(Y62/(X62)^2) -> 23.4375 | AA62: 86 | AB62: 98 | AC62: =AB62/AA62 -> 1.1395349 | AD62: 170/90 | AE62: 80 | AF62: 18 | AG62: 37.3 | AH62: 5.4
A63: 61 | B63: 69 | C63: F | D63: Wid. | E63: Pr. | F63: Self | G63: 2010 | H63: 4 | I63: 3 | J63: No | K63: n/a | L63: B | M63: n/a | N63: Never | O63: n/a | P63: n/a | Q63: No | R63: n/a | S63: n/a | T63: Yes | U63: bro/sis | V63: No | W63: n/a | X63: 1.77 | Y63: 91.5 | Z63: =(Y63/(X63)^2) -> 29.206167 | AA63: 47 | AB63: 43 | AC63: =AB63/AA63 -> 0.91489362 | AD63: 124/76 | AE63: 74 | AF63: 16 | AG63: 37.2 | AH63: 10.7
A64: 62 | B64: 70 | C64: M | D64: Mar. | E64: Pr. | F64: Unemp. | G64: 1979 | H64: 35 | I64: 4 | J64: Yes | K64: HTN | L64: C | M64: B | N64: For. | O64: >1 | P64: <100 | Q64: Yes | R64: 0 - 5 | S64: 0 - 5 | T64: No | U64: n/a | V64: No | W64: n/a | X64: 1.58 | Y64: 65 | Z64: =(Y64/(X64)^2) -> 26.037494 | AA64: 112 | AB64: 107 | AC64: =AB64/AA64 -> 0.95535714 | AD64: 160/80 | AE64: 60 | AF64: 16 | AG64: 37.1 | AH64: 6.9
A65: 63 | B65: 60 | C65: F | D65: Mar. | E65: None | F65: Self | G65: 2000 | H65: 14 | I65: 4 | J65: Yes | K65: HTN | L65: B | M65: A | N65: Never | O65: n/a | P65: n/a | Q65: No | R65: n/a | S65: n/a | T65: Yes | U65: Sister | V65: No | W65: n/a | X65: 1.66 | Y65: 80 | Z65: =(Y65/(X65)^2) -> 29.03179 | AA65: 47 | AB65: 37 | AC65: =AB65/AA65 -> 0.78723404 | AD65: 145/84 | AE65: 78 | AF65: 16 | AG65: 37.4 | AH65: 6.9
... A71: 69 | B71: 65 | C71: M | D71: Mar. | E71: Sec. | F71: Rt. | G71: 1967 | H71: 47 | I71: 4 | J71: Yes | K71: HTN | L71: B | M71: A,B | N71: Never | O71: n/a | P71: n/a | Q71: No | R71: n/a | S71: n/a | T71: Yes | U71: Mum/Bro | V71: Yes | W71: Mum | X71: 1.68 | Y71: 57 | Z71: =(Y71/(X71)^2) -> 20.195578 | AA71: 94 | AB71: 84 | AC71: =AB71/AA71 -> 0.89361702 | AD71: 120/70 | AE71: 72 | AF71: 16 | AG71: 36.8 | AH71: 7.2
A72: 70 | B72: 66 | C72: M | D72: Mar. | E72: Pr. | F72: Rt. | G72: 2004 | H72: 10 | I72: 5 | J72: No | K72: n/a | L72: C | M72: n/a | N72: Never | O72: n/a | P72: n/a | Q72: Yes | R72: 0 - 5 | S72: 0 - 5 | T72: No | U72: n/a | V72: No | W72: n/a | X72: 1.72 | Y72: 70 | Z72: =(Y72/(X72)^2) -> 23.661439 | AA72: 100 | AB72: 107 | AC72: =AB72/AA72 -> 1.07 | AD72: 120/70 | AE72: 68 | AF72: 16 | AG72: 36.7
A73: 71 | B73: 71 | C73: F | D73: Wid. | E73: None | F73: Unemp. | G73: 2000 | H73: 14 | I73: 4 | J73: No | K73: n/a | L73: B | M73: n/a | N73: Never | O73: n/a | P73: n/a | Q73: No | R73: n/a | S73: n/a | T73: No | U73: n/a | V73: No | W73: n/a | X73: 1.65 | Y73: 68 | Z73: =(Y73/(X73)^2) -> 24.977043 | AA73: 108 | AB73: 100 | AC73: =AB73/AA73 -> 0.92592593 | AD73: 135/90 | AE73: 80 | AF73: 16 | AG73: 37 | AH73: 8
A74: 72 | B74: 65 | C74: F | D74: Wid. | E74: None | F74: Unemp. | G74: 2008 | H74: 6 | I74: 4 | J74: No | K74: n/a | L74: A | M74: n/a | N74: Never | O74: n/a | P74: n/a | Q74: No | R74: n/a | S74: n/a | T74: No | U74: n/a | V74: No | W74: n/a | X74: 1.66 | Y74: 69 | Z74: =(Y74/(X74)^2) -> 25.039919 | AA74: 112 | AB74: 98 | AC74: =AB74/AA74 -> 0.875 | AD74: 120/70 | AE74: 82 | AF74: 16 | AG74: 37.1 | AH74: 4
A75: 73 | B75: 64 | C75: M | D75: Mar. | E75: Tr. | F75: Rt. | G75: 1997 | H75: 17 | I75: 4 | J75: Yes | K75: CVA | L75: B | M75: A,B | N75: Never | O75: n/a | P75: n/a | Q75: Yes | R75: >10 | S75: 0 - 5 | T75: Yes | U75: mum/bro/sis | V75: Yes | W75: Sister | X75: 1.68 | Y75: 73 | Z75: =(Y75/(X75)^2) -> 25.864512 | AA75: 106 | AB75: 105 | AC75: =AB75/AA75 -> 0.99056604 | AD75: 162/83 | AE75: 90 | AF75: 16 | AG75: 36.4 | AH75: 17.1
A76: 74 | B76: 50 | C76: F | D76: Mar. | E76: Pr. | F76: Self | G76: 2010 | H76: 4 | I76: 6 | J76: No | K76: n/a | L76: C | M76: n/a | N76: Never | O76: n/a | P76: n/a | Q76: No | R76: n/a | S76: n/a | T76: Yes | U76: mum | V76: No | W76: n/a | X76: 1.65 | Y76: 55 | Z76: =(Y76/(X76)^2) -> 20.20202 | AA76: 37 | AB76: 31 | AC76: =AB76/AA76 -> 0.83783784 | AD76: 130/100 | AE76: 64 | AF76: 18 | AG76: 37.1 | AH76: 17.1
A77: 75 | B77: 67 | C77: M | D77: Mar. | E77: Pr. | F77: Self | G77: 2011 | H77: 3 | I77: 4 | J77: Yes | K77: HTN | L77: B | M77: A,B | N77: For. | O77: >1 | P77: <100 | Q77: Yes | R77: 5 - 10 | S77: 5 - 10 | T77: No | U77: n/a | V77: No | W77: n/a | X77: 1.68 | Y77: 46 | Z77: =(Y77/(X77)^2) -> 16.298186 | AA77: 30 | AB77: 35 | AC77: =AB77/AA77 -> 1.1666667 | AD77: 190/110 | AE77: 78 | AF77: 14 | AG77: 36.5 | AH77: 11.5
A78: 76 | B78: 71 | C78: F | D78: Mar. | E78: Pr. | F78: Unemp. | G78: 2001 | H78: 13 | I78: 5 | J78: Yes | K78: Goitre | L78: B | M78: A | N78: Never | O78: n/a | P78: n/a | Q78: No | R78: n/a | S78: n/a | T78: Yes | U78: bro/sis | V78: Yes | W78: bro/sis | X78: 1.65 | Y78: 63 | Z78: =(Y78/(X78)^2) -> 23.140496 | AA78: 108 | AB78: 89 | AC78: =AB78/AA78 -> 0.82407407 | AD78: 150/70 | AE78: 70 | AF78: 16 | AG78: 37.4
A79: 77 | B79: 58 | C79: M | D79: Mar. | E79: Pr. | F79: Self | G79: 2010 | H79: 4 | I79: 4 | J79: No | K79: n/a | L79: B | M79: A,B | N79: For. | O79: >1 | P79: <100 | Q79: Yes | R79: 5 - 10 | S79: 5 - 10 | T79: Yes | U79: Bro | V79: No | W79: n/a | X79: 1.75 | Y79: 85 | Z79: =(Y79/(X79)^2) -> 27.755102 | AA79: 42 | AB79: 45 | AC79: =AB79/AA79 -> 1.0714286 | AD79: 130/90 | AE79: 78 | AF79: 18 | AG79: 36.8
A80: 78 | B80: 60 | C80: M | D80: Mar. | E80: Pr. | F80: Rt. | G80: 2013 | H80: 1 | I80: 6 | J80: Yes | K80: HTN | L80: B | M80: n/a | N80: For. | O80: <1 | P80: <100 | Q80: Yes | R80: 5 - 10 | S80: 0 - 5 | T80: Yes | U80: mum | V80: No | W80: n/a | X80: 1.69 | Y80: 78 | Z80: =(Y80/(X80)^2) -> 27.309968 | AA80: 102 | AB80: 106 | AC80: =AB80/AA80 -> 1.0392157 | AD80: 150/80 | AE80: 64 | AF80: 16 | AG80: 36.8 | AH80: 8.9
A81: 79 | B81: 50 | C81: F | D81: Si. | E81: Pr. | F81: Self | G81: 2008 | H81: 6 | I81: 6 | J81: No | K81: n/a | L81: B | M81: n/a | N81: Never | O81: n/a | P81: n/a | Q81: No | R81: n/a | S81: n/a | T81: Yes | U81: Sister | V81: No | W81: n/a | X81: 1.62 | Y81: 63 | Z81: =(Y81/(X81)^2) -> 24.005487 | AA81: 39 | AB81: 34 | AC81: =AB81/AA81 -> 0.87179487 | AD81: 130/70 | AE81: 74 | AF81: 16 | AG81: 36.9 | AH81: 15.4
A82: 80 | B82: 54 | C82: F | D82: Mar. | E82: Sec. | F82: Self | G82: 2003 | H82: 10 | I82: 4 | J82: No | K82: n/a | L82: B | M82: n/a | N82: Never | O82: n/a | P82: n/a | Q82: No | R82: n/a | S82: n/a | T82: Yes | U82: mum | V82: No | W82: n/a | X82: 1.7 | Y82: 70 | Z82: =(Y82/(X82)^2) -> 24.221453 | AA82: 110 | AB82: 95 | AC82: =AB82/AA82 -> 0.86363636 | AD82: 150/90 | AE82: 80 | AF82: 20 | AG82: 37.1 | AH82: 10.4
A83: 81 | B83: 78 | C83: F | D83: Mar. | E83: Pr. | F83: Self | G83: 2010 | H83: 4 | I83: 4 | J83: Yes | K83: HTN | L83: B | M83: n/a | N83: Never | O83: n/a | P83: n/a | Q83: No | R83: n/a | S83: n/a | T83: No | U83: n/a | V83: Yes | W83: Bro. | X83: 1.6 | Y83: 64 | Z83: =(Y83/(X83)^2) -> 25 | AA83: 43 | AB83: 38 | AC83: =AB83/AA83 -> 0.88372093 | AD83: 118/65 | AE83: 80 | AF83: 18 | AG83: 36.9 | AH83: 7
A84: 82 | B84: 64 | C84: F | D84: Wid. | E84: Pr. | F84: Unemp. | G84: 2002 | H84: 12 | I84: 4 | J84: No | K84: n/a | L84: B | M84: n/a | N84: Never | O84: n/a | P84: n/a | Q84: No | R84: n/a | S84: n/a | T84: No | U84: n/a | V84: No | W84: n/a | X84: 1.69 | Y84: 56 | Z84: =(Y84/(X84)^2) -> 19.607157 | AA84: 97 | AB84: 83 | AC84: =AB84/AA84 -> 0.8556701 | AD84: 120/70 | AE84: 72 | AF84: 18 | AG84: 36.8 | AH84: 8.6
A85: 83 | B85: 57 | C85: M | D85: Mar. | E85: Sec. | F85: Emp. | G85: 2009 | H85: 5 | I85: 3 | J85: No | K85: n/a | L85: B | M85: B | N85: Never | O85: n/a | P85: n/a | Q85: Yes | R85: 0 - 5 | S85: 0 - 5 | T85: No | U85: n/a | V85: No | W85: n/a | X85: 1.74 | Y85: 67 | Z85: =(Y85/(X85)^2) -> 22.12974 | AA85: 39 | AB85: 34 | AC85: =AB85/AA85 -> 0.87179487 | AD85: 140/100 | AE85: 80 | AF85: 16 | AG85: 37 | AH85: 7
A86: 84 | B86: 80 | C86: F | D86: Mar. | E86: None | F86: Unemp. | G86: 2011 | H86: 3 | I86: 7 | J86: No | K86: HTN | L86: B | M86: B | N86: Never | O86: n/a | P86: n/a | Q86: No | R86: n/a | S86: n/a | T86: No | U86: n/a | V86: Yes | W86: Daughter | X86: 1.5 | Y86: 55 | Z86: =(Y86/(X86)^2) -> 24.444444 | AA86: 105 | AB86: 97 | AC86: 2.0777778 | AD86: 187/90 | AE86: 100 | AF86: 20 | AG86: 37.2 | AH86: 4.9
A87: 85 | B87: 40 | C87: F | D87: Mar. | E87: Pr. | F87: Self | G87: 2009 | H87: 5 | I87: 4 | J87: Yes | K87: HTN | L87: C | M87: n/a | N87: Never | O87: n/a | P87: n/a | Q87: No | R87: n/a | S87: n/a | T87: Yes | U87: Dad | V87: Yes | W87: Mum | X87: 1.61 | Y87: 70 | Z87: =(Y87/(X87)^2) -> 27.005131 | AA87: 43 | AB87: 40 | AC87: =AB87/AA87 -> 0.93023256 | AD87: 140/90 | AE87: 82 | AF87: 22 | AG87: 36.8 | AH87: 8.9
A88: 86 | B88: 87 | C88: M | D88: Wid. | E88: Pr. | F88: Self | G88: 1996 | H88: 18 | I88: 3 | J88: No | K88: n/a | L88: B | M88: n/a | N88: For. | O88: >1 | P88: <100 | Q88: Yes | R88: 5 - 10 | S88: 0 - 5 | T88: No | U88: n/a | V88: No | W88: n/a | X88: 1.71 | Y88: 59 | Z88: =(Y88/(X88)^2) -> 20.177149 | AA88: 41 | AB88: 35 | AC88: =AB88/AA88 -> 0.85365854 | AD88: 110/70 | AE88: 70 | AF88: 18 | AG88: 36.8
A89: 87 | B89: 71 | C89: F | D89: Wid. | E89: None | F89: Unemp. | G89: 2012 | H89: 2 | I89: 6 | J89: Yes | K89: HTN | L89: B | M89: A,B | N89: Never | O89: n/a | P89: n/a | Q89: No | R89: n/a | S89: n/a | T89: No | U89: n/a | V89: Yes | W89: Mum | X89: 1.68 | Y89: 83 | Z89: =(Y89/(X89)^2) -> 29.407596 | AA89: 117 | AB89: 109 | AC89: =AB89/AA89 -> 0.93162393 | AD89: 180/90 | AE89: 80 | AF89: 16 | AG89: 37 | AH89: 11.7
A90: 88 | B90: 82 | C90: F | D90: Wid. | E90: Pr. | F90: Unemp. | G90: 2011 | H90: 3 | I90: 4 | J90: Yes | K90: HTN | L90: B | M90: A,B | N90: Never | O90: n/a | P90: n/a | Q90: No | R90: n/a | S90: n/a | T90: Yes | U90: Bro. | V90: No | W90: n/a | X90: 1.72 | Y90: 78 | Z90: =(Y90/(X90)^2) -> 26.365603 | AA90: 76 | AB90: 115 | AC90: =AB90/AA90 -> 1.5131579 | AD90: 160/90 | AE90: 72 | AF90: 16 | AG90: 36.5 | AH90: 8.4
A91: 89 | B91: 26 | C91: M | D91: Si. | E91: Pr. | F91: Emp. | G91: 2012 | H91: 2 | I91: 6 | J91: Yes | K91: TB/HIV | L91: C | M91: n/a | N91: Current | O91: >1 | P91: <100 | Q91: No | R91: n/a | S91: n/a | T91: Yes | U91: Auntie | V91: No | W91: n/a | X91: 1.56 | Y91: 52.5 | Z91: =(Y91/(X91)^2) -> 21.572978 | AA91: 32 | AB91: 35 | AC91: =AB91/AA91 -> 1.09375 | AD91: 100/80 | AE91: 68 | AF91: 16 | AG91: 36.8 | AH91: 5.2
A92: 90 | B92: 70 | C92: F | D92: Wid. | E92: Sec. | F92: Rt. | G92: 2006 | H92: 8 | I92: 5 | J92: Yes | K92: HTN | L92: B, C | M92: A,B | N92: Never | O92: n/a | P92: n/a | Q92: No | R92: n/a | S92: n/a | T92: Yes | U92: Dad | V92: No | W92: n/a | X92: 1.5 | Y92: 65 | Z92: =(Y92/(X92)^2) -> 28.888889 | AA92: 108 | AB92: 94 | AC92: =AB92/AA92 -> 0.87037037 | AD92: 120/70 | AE92: 66 | AF92: 18 | AG92: 36.8 | AH92: 3.4
A93: 91 | B93: 44 | C93: M | D93: Mar. | E93: Pr. | F93: Self | G93: 2012 | H93: 2 | I93: 4 | J93: Yes | K93: HTN | L93: B | M93: A | N93: Never | O93: n/a | P93: n/a | Q93: No | R93: n/a | S93: n/a | T93: Yes | U93: Uncle & Auntie | V93: Yes | W93: Uncle & Auntie | X93: 1.75 | Y93: 71 | Z93: =(Y93/(X93)^2) -> 23.183673 | AA93: 89 | AB93: 100 | AC93: =AB93/AA93 -> 1.1235955 | AD93: 131/87 | AE93: 76 | AF93: 18 | AG93: 37.2 | AH93: 5.9
A94: 92 | B94: 59 | C94: M | D94: Mar. | E94: Sec. | F94: Self | G94: 2000 | H94: 14 | I94: 4 | J94: Yes | K94: HTN | L94: B | M94: n/a | N94: For. | O94: >1 | P94: <100 | Q94: Yes | R94: 0 - 5 | S94: 0 - 5 | T94: Yes | U94: Mum | V94: Yes | W94: Mum | X94: 1.81 | Y94: 77 | Z94: =(Y94/(X94)^2) -> 23.503556 | AA94: 44 | AB94: 49 | AC94: =AB94/AA94 -> 1.1136364 | AD94: 160/90 | AE94: 67 | AF94: 16 | AG94: 36.7 | AH94: 9.8
A95: 93 | B95: 85 | C95: F | D95: Wid. | E95: Pr. | F95: Unemp. | G95: 2003 | H95: 11 | I95: 3 | J95: No | K95: n/a | L95: B | M95: n/a | N95: Never | O95: n/a | P95: n/a | Q95: No | R95: n/a | S95: n/a | T95: No | U95: n/a | V95: No | W95: n/a | X95: 1.5 | Y95: 48 | Z95: =(Y95/(X95)^2) -> 21.333333 | AA95: 100 | AB95: 83 | AC95: =AB95/AA95 -> 0.83 | AD95: 110/70 | AE95: 70 | AF95: 18 | AG95: 36.4 | AH95: 4.9
A96: 94 | B96: 63 | C96: F | D96: Mar. | E96: Pr. | F96: Self | G96: 2000 | H96: 14 | I96: 3 | J96: Yes | K96: HTN | L96: B | M96: A,B | N96: Never | O96: n/a | P96: n/a | Q96: No | R96: n/a | S96: n/a | T96: No | U96: n/a | V96: No | W96: n/a | X96: 1.53 | Y96: 58 | Z96: =(Y96/(X96)^2) -> 24.776795 | AA96: 109.5 | AB96: 94.5 | AC96: =AB96/AA96 -> 0.8630137 | AD96: 160/70 | AE96: 76 | AF96: 20 | AG96: 36.8 | AH96: 9.4
A97: 95 | B97: 55 | C97: F | D97: Mar. | E97: Sec. | F97: Self | G97: 2009 | H97: 5 | I97: 4 | J97: Yes | K97: HTN | L97: B | M97: n/a | N97: Never | O97: n/a | P97: n/a | Q97: No | R97: n/a | S97: n/a | T97: Yes | U97: Sister | V97: No | W97: n/a | X97: 1.57 | Y97: 75 | Z97: =(Y97/(X97)^2) -> 30.427198 | AA97: 118 | AB97: 91 | AC97: =AB97/AA97 -> 0.77118644 | AD97: 180/90 | AE97: 86 | AF97: 18 | AG97: 37.2 | AH97: 12.9
A98: 96 | B98: 88 | C98: M | D98: Mar. | E98: None | F98: Unemp. | G98: 1993 | H98: 21 | I98: 5 | J98: Yes | K98: HTN | L98: B | M98: A,B | N98: For. | O98: >1 | P98: <100 | Q98: Yes | R98: >10 | S98: 5 - 10 | T98: No | U98: n/a | V98: No | W98: n/a | X98: 1.72 | Y98: 68 | Z98: =(Y98/(X98)^2) -> 22.985398 | AA98: 100 | AB98: 96 | AC98: =AB98/AA98 -> 0.96 | AD98: 150/80 | AE98: 72 | AF98: 18 | AG98: 36.5 | AH98: 8.9
A99: 97 | B99: 28 | C99: M | D99: Si. | E99: Sec. | F99: emp. | G99: 2012 | H99: 2 | I99: 4 | J99: Yes | K99: V/Veins | L99: C | M99: n/a | N99: For. | O99: >1 | P99: <100 | Q99: Yes | R99: 5 - 10 | S99: 5 - 10 | T99: No | U99: n/a | V99: No | W99: n/a | X99: 1.85 | Y99: 69 | Z99: =(Y99/(X99)^2) -> 20.160701 | AA99: 89.5 | AB99: 125 | AC99: =AB99/AA99 -> 1.396648 | AD99: 120/70 | AE99: 80 | AF99: 20 | AG99: 36.8 | AH99: 4.1
A100: 98 | B100: 50 | C100: F | D100: Mar. | E100: Pr. | F100: Self | G100: 2013 | H100: 1 | I100: 4 | J100: No | K100: n/a | L100: B | M100: n/a | N100: Never | O100: n/a | P100: n/a | Q100: No | R100: n/a | S100: n/a | T100: No | U100: n/a | V100: No | W100: n/a | X100: 1.65 | Y100: 47 | Z100: =(Y100/(X100)^2) -> 17.263545 | AA100: 88 | AB100: 71 | AC100: =AB100/AA100 -> 0.80681818 | AD100: 120/70 | AE100: 76 | AF100: 18 | AG100: 36.8 | AH100: 17.6
... A105: 103 | B105: 60 | C105: M | D105: Mar. | E105: Sec. | F105: Self | G105: 2002 | H105: 12 | I105: 4 | J105: No | K105: n/a | L105: B | M105: n/a | N105: Never | O105: n/a | P105: n/a | Q105: Yes | R105: >10 | S105: 5 - 10 | T105: Yes | U105: mum | V105: No | W105: n/a | X105: 1.75 | Y105: 60 | Z105: =(Y105/(X105)^2) -> 19.591837 | AA105: 87 | AB105: 97 | AC105: =AB105/AA105 -> 1.1149425 | AD105: 150/80 | AE105: 100 | AF105: 18 | AG105: 37.1 | AH105: 21.9
A106: 104 | B106: 77 | C106: F | D106: Wid. | E106: Pr. | F106: Self | G106: 1994 | H106: 20 | I106: 4 | J106: Yes | K106: HTN | L106: B | M106: n/a | N106: Never | O106: n/a | P106: n/a | Q106: No | R106: n/a | S106: n/a | T106: Yes | U106: Sons | V106: No | W106: n/a | X106: 1.5 | Y106: 44 | Z106: =(Y106/(X106)^2) -> 19.555556 | AA106: 88 | AB106: 86 | AC106: =AB106/AA106 -> 0.97727273 | AD106: 146/91 | AE106: 70 | AF106: 18 | AG106: 37
A107: 105 | B107: 73 | C107: M | D107: Mar. | E107: Sec. | F107: Rt. | G107: 2011 | H107: 3 | I107: 4 | J107: No | K107: n/a | L107: A | M107: n/a | N107: Never | O107: n/a | P107: n/a | Q107: Yes | R107: 5 - 10 | S107: 0 - 5 | T107: No | U107: n/a | V107: No | W107: n/a | X107: 1.71 | Y107: 83 | Z107: =(Y107/(X107)^2) -> 28.384802 | AA107: 105 | AB107: 109 | AC107: =AB107/AA107 -> 1.0380952 | AD107: 162/80 | AE107: 78 | AF107: 18 | AG107: 37
A108: 106 | B108: 61 | C108: F | D108: Mar. | E108: Pr. | F108: Unemp. | G108: 2008 | H108: 6 | I108: 4 | J108: No | K108: n/a | L108: B | M108: n/a | N108: Never | O108: n/a | P108: n/a | Q108: No | R108: n/a | S108: n/a | T108: Yes | U108: Dad | V108: No | W108: n/a | X108: 1.64 | Y108: 73 | Z108: =(Y108/(X108)^2) -> 27.141582 | AA108: 112 | AB108: 95 | AC108: =AB108/AA108 -> 0.84821429 | AD108: 160/80 | AE108: 76 | AF108: 18 | AG108: 36.8
A109: 107 | B109: 44 | C109: F | D109: Mar. | E109: Sec. | F109: Self | G109: 2012 | H109: 2 | I109: 4 | J109: No | K109: n/a | L109: B | M109: n/a | N109: Never | O109: n/a | P109: n/a | Q109: No | R109: n/a | S109: n/a | T109: Yes | U109: Dad | V109: Yes | W109: Dad | X109: 1.75 | Y109: 73 | Z109: =(Y109/(X109)^2) -> 23.836735 | AA109: 110 | AB109: 101 | AC109: =AB109/AA109 -> 0.91818182 | AD109: 127/81 | AE109: 80 | AF109: 16 | AG109: 36.8
A110: 108 | B110: 77 | C110: F | D110: Wid. | E110: None | F110: Unemp. | G110: 2009 | H110: 5 | I110: 5 | J110: Yes | K110: HTN | L110: B | M110: A,B | N110: Never | O110: n/a | P110: n/a | Q110: No | R110: n/a | S110: n/a | T110: No | U110: n/a | V110: No | W110: n/a | X110: 1.6 | Y110: 75 | Z110: =(Y110/(X110)^2) -> 29.296875 | AA110: 130 | AB110: 120 | AC110: =AB110/AA110 -> 0.92307692 | AD110: 130/100 | AE110: 72 | AF110: 16 | AG110: 37.3
A111: 109 | B111: 21 | C111: F | D111: Mar. | E111: Pr. | F111: Self | G111: 2010 | H111: 4 | I111: 5 | J111: No | K111: n/a | L111: C | M111: n/a | N111: Never | O111: n/a | P111: n/a | Q111: No | R111: n/a | S111: n/a | T111: No | U111: n/a | V111: No | W111: n/a | X111: 1.55 | Y111: 60 | Z111: =(Y111/(X111)^2) -> 24.973985 | AA111: 107 | AB111: 73 | AC111: =AB111/AA111 -> 0.68224299 | AD111: 108/73 | AE111: 80 | AF111: 16 | AG111: 37
A112: 110 | B112: 57 | C112: F | D112: Mar. | E112: Sec. | F112: Unemp. | G112: 2007 | H112: 7 | I112: 4 | J112: Yes | K112: Mental | L112: B | M112: A,B | N112: Never | O112: n/a | P112: n/a | Q112: No | R112: n/a | S112: n/a | T112: No | U112: n/a | V112: No | W112: n/a | X112: 1.56 | Y112: 64 | Z112: =(Y112/(X112)^2) -> 26.298488 | AA112: 97 | AB112: 83 | AC112: =AB112/AA112 -> 0.8556701 | AD112: 175/95 | AE112: 129 | AF112: 20 | AG112: 37.2
A113: 111 | B113: 68 | C113: M | D113: Mar. | E113: Sec. | F113: Rt. | G113: 2011 | H113: 3 | I113: 4 | J113: Yes | K113: HTN | L113: B | M113: A,B | N113: For. | O113: <1 | P113: <100 | Q113: Yes | R113: >10 | S113: >10 | T113: Yes | U113: Bro | V113: Yes | W113: Bro | X113: 1.72 | Y113: 75 | Z113: =(Y113/(X113)^2) -> 25.351541 | AA113: 101 | AB113: 108 | AC113: =AB113/AA113 -> 1.0693069 | AD113: 146/64 | AE113: 101 | AF113: 20 | AG113: 37
A114: 112 | B114: 72 | C114: M | D114: Mar. | E114: Sec. | F114: Rt. | G114: 2001 | H114: 13 | I114: 4 | J114: Yes | K114: HTN | L114: B, C | M114: n/a | N114: For. | O114: >1 | P114: <100 | Q114: Yes | R114: >10 | S114: 0 - 5 | T114: Yes | U114: Mum, Bro, Sis | V114: Yes | W114: Bro, sis | X114: 1.64 | Y114: 65 | Z114: =(Y114/(X114)^2) -> 24.167162 | AA114: 94 | AB114: 97 | AC114: =AB114/AA114 -> 1.0319149 | AD114: 164/80 | AE114: 72 | AF114: 18 | AG114: 37.1
A115: 113 | B115: 66 | C115: M | D115: Mar. | E115: Sec. | F115: Rt. | G115: 1994 | H115: 20 | I115: 4 | J115: Yes | K115: HTN | L115: B, C | M115: n/a | N115: For. | O115: >1 | P115: >100 | Q115: Yes | R115: 5 - 10 | S115: 0 - 5 | T115: No | U115: n/a | V115: No | W115: n/a | X115: 1.62 | Y115: 67 | Z115: =(Y115/(X115)^2) -> 25.529645 | AA115: 98 | AB115: 112 | AC115: =AB115/AA115 -> 1.1428571 | AD115: 180/80 | AE115: 80 | AF115: 18 | AG115: 36.5
A116: 114 | B116: 38 | C116: F | D116: Mar. | E116: Sec. | F116: Self | G116: 2014 | H116: 1 | I116: 4 | J116: No | K116: n/a | L116: C | M116: n/a | N116: Never | O116: n/a | P116: n/a | Q116: No | R116: n/a | S116: n/a | T116: No | U116: n/a | V116: No | W116: n/a | X116: 1.66 | Y116: 72 | Z116: =(Y116/(X116)^2) -> 26.128611 | AA116: 110 | AB116: 89 | AC116: =AB116/AA116 -> 0.80909091 | AD116: 130/88 | AE116: 74 | AF116: 16 | AG116: 37.3 | AH116: 10
A117: 115 | B117: 70 | C117: M | D117: Mar. | E117: Sec. | F117: Rt. | G117: 1976 | H117: 38 | I117: 6 | J117: Yes | K117: HTN | L117: C | M117: B | N117: Never | O117: n/a | P117: n/a | Q117: No | R117: n/a | S117: n/a | T117: Yes | U117: Dad | V117: No | W117: n/a | X117: 1.75 | Y117: 77 | Z117: =(Y117/(X117)^2) -> 25.142857 | AA117: 100 | AB117: 111 | AC117: =AB117/AA117 -> 1.11 | AD117: 169/85 | AE117: 64 | AF117: 18 | AG117: 37
A118: 116 | B118: 24 | C118: F | D118: Mar. | E118: Tr. | F118: Self | G118: 2012 | H118: 2 | I118: 4 | J118: No | K118: n/a | L118: C | M118: n/a | N118: Never | O118: n/a | P118: n/a | Q118: No | R118: n/a | S118: n/a | T118: Yes | U118: G/Ma. | V118: No | W118: n/a | X118: 1.65 | Y118: 75 | Z118: =(Y118/(X118)^2) -> 27.548209 | AA118: 115 | AB118: 76 | AC118: =AB118/AA118 -> 0.66086957 | AD118: 160/100 | AE118: 72 | AF118: 20 | AG118: 37.1
A119: 117 | B119: 75 | C119: F | D119: Wid. | E119: Pr. | F119: Unemp. | G119: 2002 | H119: 12 | I119: 4 | J119: Yes | K119: HTN | L119: B | M119: n/a | N119: Never | O119: n/a | P119: n/a | Q119: No | R119: n/a | S119: n/a | T119: No | U119: n/a | V119: No | W119: n/a | X119: 1.56 | Y119: 62 | Z119: =(Y119/(X119)^2) -> 25.47666 | AA119: 117 | AB119: 106 | AC119: =AB119/AA119 -> 0.90598291 | AD119: 200/99 | AE119: 130 | AF119: 20 | AG119: 37 | AH119: 15.8
A120: 118 | B120: 69 | C120: M | D120: Mar. | E120: Sec. | F120: Rt. | G120: 2014 | H120: 1 | I120: 4 | J120: Yes | K120: HTN | L120: B | M120: n/a | N120: For. | O120: >1 | P120: >100 | Q120: Yes | R120: >10 | S120: 5 - 10 | T120: Yes | U120: Mum, Bro, Sis | V120: Yes | W120: Bro, sis | X120: 1.71 | Y120: 76 | Z120: =(Y120/(X120)^2) -> 25.990903 | AA120: 100 | AB120: 105 | AC120: =AB120/AA120 -> 1.05 | AD120: 182/96 | AE120: 72 | AF120: 16 | AG120: 37 | AH120: 6.5
A121: 119 | B121: 64 | C121: F | D121: Mar. | E121: Pr. | F121: Unemp. | G121: 2012 | H121: 2 | I121: 4 | J121: Yes | K121: HTN | L121: B | M121: B | N121: Never | O121: n/a | P121: n/a | Q121: No | R121: n/a | S121: n/a | T121: No | U121: n/a | V121: No | W121: n/a | X121: 1.61 | Y121: 56 | Z121: =(Y121/(X121)^2) -> 21.604105 | AA121: 100 | AB121: 84 | AC121: =AB121/AA121 -> 0.84 | AD121: 165/96 | AE121: 77 | AF121: 16 | AG121: 36.8 | AH121: 6.7
A122: 120 | B122: 57 | C122: M | D122: Mar. | E122: Sec. | F122: Emp. | G122: 2011 | H122: 3 | I122: 6 | J122: No | K122: n/a | L122: B | M122: n/a | N122: For. | O122: >1 | P122: >100 | Q122: No | R122: n/a | S122: n/a | T122: Yes | U122: Bro, sis | V122: No | W122: n/a | X122: 1.88 | Y122: 83.5 | Z122: =(Y122/(X122)^2) -> 23.624943 | AA122: 104 | AB122: 102 | AC122: =AB122/AA122 -> 0.98076923 | AD122: 120/80 | AE122: 62 | AF122: 18 | AG122: 36.2 | AH122: 6.1
A123: 121 | B123: 44 | C123: F | D123: Mar. | E123: Pr. | F123: Self | G123: 2002 | H123: 12 | I123: 4 | J123: No | K123: n/a | L123: C | M123: n/a | N123: Never | O123: n/a | P123: n/a | Q123: No | R123: n/a | S123: n/a | T123: Yes | U123: Dad, Sis | V123: No | W123: n/a | X123: 1.66 | Y123: 69 | Z123: =(Y123/(X123)^2) -> 25.039919 | AA123: 104 | AB123: 98 | AC123: =AB123/AA123 -> 0.94230769 | AD123: 131/83 | AE123: 81 | AF123: 20 | AG123: 37 | AH123: 12.1
A124: 122 | B124: 62 | C124: F | D124: Wid. | E124: Sec. | F124: Self | G124: 2002 | H124: 12 | I124: 4 | J124: No | K124: n/a | L124: B, C | M124: A | N124: Never | O124: n/a | P124: n/a | Q124: No | R124: n/a | S124: n/a | T124: No | U124: n/a | V124: No | W124: n/a | X124: 1.6 | Y124: 76 | Z124: =(Y124/(X124)^2) -> 29.6875 | AA124: 120 | AB124: 105 | AC124: =AB124/AA124 -> 0.875 | AD124: 124/86 | AE124: 87 | AF124: 18 | AG124: 36.6 | AH124: 12.9
A125: 123 | B125: 69 | C125: M | D125: Mar. | E125: Pr. | F125: Rt. | G125: 2011 | H125: 3 | I125: 4 | J125: No | K125: n/a | L125: B | M125: n/a | N125: Never | O125: n/a | P125: n/a | Q125: Yes | R125: 5 - 10 | S125: 0 - 5 | T125: Yes | U125: Mum | V125: Yes | W125: Mum | X125: 1.65 | Y125: 55 | Z125: =(Y125/(X125)^2) -> 20.20202 | AA125: 78 | AB125: 85 | AC125: =AB125/AA125 -> 1.0897436 | AD125: 113/85 | AE125: 55 | AF125: 20 | AG125: 37.2 | AH125: 7.6
A126: 124 | B126: 52 | C126: F | D126: Si. | E126: Pr. | F126: Unemp. | G126: 2010 | H126: 4 | I126: 2 | J126: No | K126: n/a | L126: B | M126: n/a | N126: Never | O126: n/a | P126: n/a | Q126: No | R126: n/a | S126: n/a | T126: Yes | U126: Bro | V126: Yes | W126: Bro | X126: 1.5 | Y126: 80 | Z126: =(Y126/(X126)^2) -> 35.555556 | AA126: 122 | AB126: 100 | AC126: =AB126/AA126 -> 0.81967213 | AD126: 150/80 | AE126: 72 | AF126: 16 | AG126: 37.2 | AH126: 12.7
A127: 125 | B127: 66 | C127: F | D127: Mar. | E127: None | F127: Unemp. | G127: 2008 | H127: 6 | I127: 6 | J127: Yes | K127: HTN | L127: B | M127: n/a | N127: Never | O127: n/a | P127: n/a | Q127: No | R127: n/a | S127: n/a | T127: Yes | U127: Dad | V127: No | W127: n/a | X127: 1.6 | Y127: 62 | Z127: =(Y127/(X127)^2) -> 24.21875 | AA127: 107 | AB127: 92 | AC127: =AB127/AA127 -> 0.85981308 | AD127: 120/70 | AE127: 76 | AF127: 16 | AG127: 37 | AH127: 7.9
A128: 126 | B128: 67 | C128: F | D128: Mar. | E128: Pr. | F128: Unemp. | G128: 1978 | H128: 36 | I128: 4 | J128: Yes | K128: HTN | L128: B, C | M128: A | N128: Never | O128: n/a | P128: n/a | Q128: No | R128: n/a | S128: n/a | T128: Yes | U128: Bro, sis | V128: No | W128: n/a | X128: 1.74 | Y128: 70 | Z128: =(Y128/(X128)^2) -> 23.120624 | AA128: 104 | AB128: 114 | AC128: =AB128/AA128 -> 1.0961538 | AD128: 160/70 | AE128: 70 | AF128: 16 | AG128: 37.2 | AH128: 13
...

Sheet Drugs
A1: RESEARCH TREATMENT MODES
A2: No. | B2: Diet | C2: Metformin | D2: Glibenclamide | E2: Pioglitazone | F2: Vitagliptin | G2: Insulin | H2: Ace-i | I2: ARB | J2: B-Blocker | K2: CCB | L2: HCTZ | M2: Aldactone | N2: Lasix | O2: Hydralazine | P2: Methl Dopa | Q2: Digoxin | R2: Pain Killers | S2: Others
A3: =Questionnaire!A3 -> 1 | B3: - | C3: √ | D3: - | E3: - | F3: - | G3: - | H3: √ | I3: - | J3: - | K3: - | L3: √ | M3: - | N3: - | O3: - | P3: - | Q3: - | R3: - | S3: -
A4: =Questionnaire!A4 -> 2 | B4: - | C4: √ | D4: - | E4: - | F4: - | G4: - | H4: √ | I4: - | J4: - | K4: - | L4: √ | M4: - | N4: - | O4: - | P4: - | Q4: - | R4: -
A5: =Questionnaire!A5 -> 3 | B5: - | C5: √ | D5: - | E5: - | F5: - | G5: - | H5: √ | I5: - | J5: - | K5: - | L5: - | M5: - | N5: - | O5: - | P5: - | Q5: - | R5: - | S5: -
A6: =Questionnaire!A6 -> 4 | B6: - | C6: √ | D6: - | E6: - | F6: - | G6: - | H6: - | I6: - | J6: - | K6: - | L6: - | M6: - | N6: - | O6: - | P6: - | Q6: - | R6: - | S6: -
A7: =Questionnaire!A7 -> 5 | B7: - | C7: - | D7: √ | E7: - | F7: - | G7: - | H7: - | I7: - | J7: - | K7: - | L7: - | M7: - | N7: - | O7: - | P7: √ | Q7: - | R7: - | S7: -
A8: =Questionnaire!A8 -> 6 | B8: - | C8: - | D8: - | E8: - | F8: - | G8: √ | H8: - | I8: - | J8: - | K8: - | L8: - | M8: - | N8: - | O8: - | P8: - | Q8: - | R8: - | S8: -
A9: =Questionnaire!A9 -> 7 | B9: - | C9: √ | D9: √ | E9: √ | F9: - | G9: - | H9: - | I9: - | J9: - | K9: - | L9: - | M9: - | N9: - | O9: - | P9: - | Q9: - | R9: - | S9: -
A10: =Questionnaire!A10 -> 8 | B10: - | C10: √ | D10: √ | E10: - | F10: - | G10: - | H10: - | I10: √ | J10: √ | K10: √ | L10: - | M10: - | N10: √ | O10: √ | P10: - | Q10: - | R10: - | S10: -
A11: =Questionnaire!A11 -> 9 | B11: - | C11: √ | D11: √ | E11: √ | F11: - | G11: - | H11: √ | I11: - | J11: - | K11: - | L11: - | M11: - | N11: - | O11: - | P11: - | Q11: - | R11: - | S11: -
A12: =Questionnaire!A12 -> 10 | B12: - | C12: √ | D12: √ | E12: √ | F12: - | G12: - | H12: √ | I12: - | J12: - | K12: - | L12: √ | M12: - | N12: - | O12: - | P12: - | Q12: - | R12: - | S12: -
A13: =Questionnaire!A13 -> 11 | B13: - | C13: - | D13: - | E13: - | F13: - | G13: √ | H13: √ | I13: - | J13: - | K13: - | L13: √ | M13: - | N13: - | O13: - | P13: - | Q13: - | R13: - | S13: -
A14: =Questionnaire!A14 -> 12 | B14: - | C14: √ | D14: √ | E14: - | F14: - | G14: - | H14: √ | I14: - | J14: √ | K14: - | L14: √ | M14: - | N14: - | O14: - | P14: - | Q14: - | R14: - | S14: -
A15: =Questionnaire!A15 -> 13 | B15: - | C15: √ | D15: - | E15: - | F15: - | G15: - | H15: - | I15: √ | J15: √ | K15: - | L15: √ | M15: - | N15: - | O15: - | P15: - | Q15: - | R15: - | S15: -
A16: =Questionnaire!A16 -> 14 | B16: - | C16: √ | D16: - | E16: - | F16: - | G16: - | H16: - | I16: √ | J16: - | K16: - | L16: √ | M16: - | N16: - | O16: - | P16: - | Q16: - | R16: - | S16: √
... A68: =Questionnaire!A68 -> 66 | B68: - | C68: √ | D68: - | E68: - | F68: - | G68: - | H68: - | I68: - | J68: - | K68: √ | L68: - | M68: - | N68: - | O68: - | P68: - | Q68: - | R68: - | S68: -
A69: =Questionnaire!A69 -> 67 | B69: - | C69: √ | D69: - | E69: - | F69: - | G69: - | H69: - | I69: - | J69: - | L69: - | M69: - | N69: - | O69: - | P69: - | Q69: - | R69: - | S69: -
A70: =Questionnaire!A70 -> 68 | B70: - | C70: √ | D70: - | E70: - | F70: - | G70: - | H70: √ | I70: - | J70: √ | K70: √ | L70: - | M70: √ | N70: √ | O70: - | P70: - | Q70: - | R70: - | S70: √
A71: =Questionnaire!A71 -> 69 | B71: - | C71: √ | D71: √ | E71: - | F71: - | G71: - | H71: √ | I71: - | J71: √ | K71: - | L71: - | M71: - | N71: - | O71: - | P71: - | Q71: - | R71: √ | S71: -
A72: =Questionnaire!A72 -> 70 | B72: - | C72: - | D72: - | E72: - | F72: - | G72: √ | H72: - | I72: - | J72: - | K72: - | L72: - | M72: - | N72: - | O72: - | P72: - | Q72: - | R72: - | S72: -
A73: =Questionnaire!A73 -> 71 | B73: - | C73: √ | D73: - | E73: - | F73: - | G73: - | H73: - | I73: - | J73: - | K73: - | L73: - | M73: - | N73: - | O73: - | P73: - | Q73: - | R73: - | S73: -
A74: =Questionnaire!A74 -> 72 | B74: √ | C74: - | D74: - | E74: - | F74: - | G74: - | H74: - | I74: - | J74: - | K74: - | L74: - | M74: - | N74: - | O74: - | P74: - | Q74: - | R74: - | S74: -
A75: =Questionnaire!A75 -> 73 | B75: - | C75: √ | D75: - | E75: - | F75: - | G75: √ | H75: √ | I75: - | J75: √ | K75: √ | L75: - | M75: - | N75: - | O75: - | P75: - | Q75: - | R75: - | S75: √
A76: =Questionnaire!A76 -> 74 | B76: - | C76: - | D76: - | E76: - | F76: - | G76: √ | H76: - | I76: - | J76: - | K76: - | L76: - | M76: - | N76: - | O76: - | P76: - | Q76: - | R76: - | S76: -
A77: =Questionnaire!A77 -> 75 | B77: - | C77: √ | D77: √ | E77: - | F77: - | G77: - | H77: √ | I77: - | J77: - | K77: - | L77: - | M77: - | N77: - | O77: - | P77: - | Q77: - | R77: - | S77: √
A78: =Questionnaire!A78 -> 76 | B78: - | C78: √ | D78: √ | E78: - | F78: - | G78: - | H78: - | I78: √ | J78: - | K78: √ | L78: √ | M78: - | N78: - | O78: - | P78: - | Q78: - | R78: - | S78: √
A79: =Questionnaire!A79 -> 77 | B79: - | C79: √ | D79: - | E79: - | F79: - | G79: - | H79: √ | I79: - | J79: - | K79: - | L79: - | M79: - | N79: - | O79: - | P79: - | Q79: - | R79: - | S79: -
A80: =Questionnaire!A80 -> 78 | B80: - | C80: √ | D80: √ | E80: - | F80: - | G80: - | H80: - | I80: √ | J80: - | K80: √ | L80: √ | M80: - | N80: - | O80: - | P80: - | Q80: - | R80: - | S80: -
A81: =Questionnaire!A81 -> 79 | B81: - | C81: √ | D81: - | E81: - | F81: - | G81: - | H81: - | I81: - | J81: - | K81: - | L81: - | M81: - | N81: - | O81: - | P81: - | Q81: - | R81: - | S81: -
... A203: =Questionnaire!A203 -> 201 | B203: - | C203: √ | D203: √ | E203: - | F203: - | G203: - | H203: - | I203: - | J203: - | K203: - | L203: - | M203: - | N203: - | O203: - | P203: - | Q203: - | R203: - | S203: -
A204: =Questionnaire!A204 -> 202 | B204: - | C204: - | D204: - | E204: - | F204: - | G204: √ | H204: √ | J204: √ | K204: √ | L204: - | M204: - | N204: √ | O204: - | P204: - | Q204: - | R204: - | S204: √
A205: =Questionnaire!A205 -> 203 | B205: - | C205: √ | D205: - | E205: - | F205: - | G205: - | H205: - | I205: √ | J205: √ | K205: - | L205: √ | M205: - | N205: - | O205: - | P205: - | Q205: - | R205: - | S205: -
A206: =Questionnaire!A206 -> 204 | B206: - | C206: √ | D206: - | E206: - | F206: - | G206: √ | H206: - | I206: - | J206: - | K206: - | L206: - | M206: - | N206: - | O206: - | P206: - | Q206: - | R206: - | S206: -
A207: =Questionnaire!A207 -> 205 | B207: - | C207: √ | D207: - | E207: - | F207: - | G207: √ | H207: √ | I207: - | J207: - | K207: √ | L207: - | M207: - | N207: - | O207: - | P207: - | Q207: - | R207: - | S207: -
A208: =Questionnaire!A208 -> 206 | B208: - | C208: √ | D208: - | E208: - | F208: - | G208: √ | H208: - | I208: √ | J208: √ | K208: - | L208: √ | M208: - | N208: - | O208: - | P208: - | Q208: - | R208: - | S208: -
A209: =Questionnaire!A209 -> 207 | B209: - | C209: √ | D209: √ | E209: - | F209: - | G209: - | H209: - | I209: - | J209: - | K209: - | L209: - | M209: - | N209: - | O209: - | P209: - | Q209: - | R209: - | S209: -
A210: =Questionnaire!A210 -> 208 | B210: - | C210: √ | D210: - | E210: - | F210: - | G210: √ | H210: √ | I210: - | J210: - | K210: √ | L210: √ | M210: - | N210: - | O210: - | P210: - | Q210: - | R210: - | S210: √
A211: =Questionnaire!A211 -> 209 | B211: - | C211: √ | D211: - | E211: - | F211: - | G211: - | H211: √ | I211: - | J211: - | K211: √ | L211: √ | M211: - | N211: - | O211: - | P211: - | Q211: - | R211: - | S211: -
A212: =Questionnaire!A212 -> 210 | B212: - | C212: √ | D212: √ | E212: - | F212: - | G212: - | H212: - | I212: - | J212: - | K212: √ | L212: - | M212: - | N212: - | O212: - | P212: - | Q212: - | R212: √ | S212: √
A213: =Questionnaire!A213 -> 211 | B213: - | C213: √ | D213: - | E213: - | F213: - | G213: - | H213: - | I213: √ | J213: - | K213: √ | L213: √ | M213: - | N213: - | O213: - | P213: - | Q213: - | R213: - | S213: -
A214: =Questionnaire!A214 -> 212 | B214: - | C214: √ | D214: √ | E214: - | F214: - | G214: - | H214: - | I214: - | J214: - | K214: - | L214: - | M214: - | N214: - | O214: - | P214: - | Q214: - | R214: - | S214: -
A215: =Questionnaire!A215 -> 213 | B215: - | C215: √ | D215: - | E215: - | F215: - | G215: - | H215: - | I215: - | J215: √ | K215: - | L215: √ | M215: - | N215: - | O215: - | P215: - | Q215: - | R215: - | S215: -
A216: =Questionnaire!A216 -> 214 | B216: - | C216: √ | D216: - | E216: - | F216: - | G216: - | H216: - | I216: - | J216: - | K216: - | L216: - | M216: - | N216: - | O216: - | P216: - | Q216: - | R216: - | S216: -
... A298: =Questionnaire!A298 -> 296 | B298: - | C298: √ | D298: - | E298: - | F298: - | G298: √ | H298: √ | I298: - | J298: - | K298: √ | L298: - | M298: - | N298: - | O298: - | P298: - | Q298: - | R298: - | S298: -
A299: =Questionnaire!A299 -> 297 | B299: - | C299: √ | D299: √ | E299: - | F299: - | G299: - | I299: √ | J299: - | K299: - | L299: - | M299: - | N299: - | O299: - | P299: - | Q299: - | R299: - | S299: -
A300: =Questionnaire!A300 -> 298 | B300: - | C300: √ | D300: √ | E300: - | F300: - | G300: - | H300: √ | I300: - | J300: - | K300: - | L300: - | M300: - | N300: - | O300: - | P300: - | Q300: - | R300: - | S300: -
A301: =Questionnaire!A301 -> 299 | B301: - | C301: √ | D301: - | E301: - | F301: - | G301: - | H301: √ | I301: - | J301: √ | K301: - | L301: - | M301: √ | N301: √ | O301: - | P301: - | Q301: √ | R301: - | S301: √
A302: =Questionnaire!A302 -> 300 | B302: - | C302: - | D302: √ | E302: √ | F302: - | G302: - | H302: - | I302: - | J302: - | K302: - | L302: √ | M302: - | N302: - | O302: - | P302: - | Q302: - | R302: - | S302: √
A303: =Questionnaire!A303 -> 301 | B303: - | C303: - | D303: - | E303: - | F303: - | G303: √ | H303: √ | I303: - | J303: √ | K303: - | L303: - | M303: - | N303: - | O303: - | P303: - | Q303: - | R303: - | S303: -
A304: =Questionnaire!A304 -> 302 | B304: - | C304: √ | D304: √ | E304: - | F304: - | G304: - | H304: - | I304: - | J304: - | K304: - | L304: - | M304: - | N304: - | O304: - | P304: - | Q304: - | R304: - | S304: -
A305: =Questionnaire!A305 -> 303 | B305: - | C305: √ | D305: - | E305: - | F305: - | G305: - | H305: √ | I305: - | J305: √ | K305: - | L305: - | M305: - | N305: - | O305: - | P305: - | Q305: - | R305: - | S305: -
A306: =Questionnaire!A306 -> 304 | B306: - | C306: - | D306: - | E306: - | F306: - | G306: √ | H306: - | I306: - | J306: - | K306: - | L306: - | M306: - | N306: - | O306: - | P306: - | Q306: - | R306: - | S306: -
A307: =Questionnaire!A307 -> 305 | B307: - | C307: √ | D307: √ | E307: - | F307: - | G307: - | H307: - | I307: √ | J307: - | K307: √ | L307: √ | M307: - | N307: - | O307: - | P307: - | Q307: - | R307: - | S307: -
A308: =Questionnaire!A308 -> 306 | B308: - | C308: - | D308: - | E308: - | F308: - | G308: √ | H308: - | I308: √ | J308: √ | K308: - | L308: √ | M308: - | N308: - | O308: - | P308: - | Q308: - | R308: - | S308: -
A309: =Questionnaire!A309 -> 307 | B309: - | C309: √ | D309: - | E309: - | F309: - | G309: √ | H309: √ | I309: - | J309: - | K309: - | M309: - | N309: - | O309: - | P309: - | Q309: - | R309: - | S309: -
A310: =Questionnaire!A310 -> 308 | B310: - | C310: √ | D310: √ | E310: - | F310: - | G310: - | H310: √ | I310: - | J310: - | K310: - | L310: √ | M310: - | N310: - | O310: - | P310: - | Q310: - | R310: - | S310: √
A311: =Questionnaire!A311 -> 309 | B311: - | C311: - | D311: - | E311: - | F311: - | G311: √ | H311: √ | I311: - | J311: - | K311: √ | L311: - | M311: - | N311: - | O311: - | P311: - | Q311: - | R311: - | S311: √
A312: =Questionnaire!A312 -> 310 | B312: - | C312: √ | D312: √ | E312: - | F312: - | G312: - | H312: √ | I312: - | J312: - | K312: - | L312: - | M312: - | N312: - | O312: - | P312: - | Q312: - | R312: - | S312: √
A313: =Questionnaire!A313 -> 311 | B313: - | C313: √ | D313: √ | E313: - | F313: - | G313: - | H313: √ | I313: - | J313: - | K313: - | L313: - | M313: - | N313: - | O313: - | P313: - | Q313: - | R313: - | S313: -
A314: =Questionnaire!A314 -> 312 | B314: - | C314: √ | D314: - | E314: - | F314: - | G314: √ | H314: - | I314: - | J314: - | K314: - | L314: - | M314: - | N314: - | O314: - | P314: - | Q314: - | R314: - | S314: -
A315: =Questionnaire!A315 -> 313 | B315: - | C315: √ | D315: √ | E315: - | F315: - | G315: - | H315: - | I315: - | J315: - | K315: - | L315: - | M315: - | N315: - | O315: - | P315: - | Q315: - | R315: - | S315: -
A316: =Questionnaire!A316 -> 314 | B316: - | C316: √ | D316: √ | E316: √ | F316: - | G316: - | H316: √ | I316: - | J316: - | K316: - | L316: - | M316: - | N316: - | O316: - | P316: - | Q316: - | R316: - | S316: -
A317: =Questionnaire!A317 -> 315 | B317: - | C317: √ | D317: - | E317: - | F317: - | G317: √ | I317: - | J317: - | K317: - | L317: - | M317: - | N317: - | O317: - | P317: - | Q317: - | R317: - | S317: -
A318: =Questionnaire!A318 -> 316 | B318: - | C318: √ | D318: √ | E318: √ | F318: - | G318: - | H318: √ | I318: - | J318: - | K318: - | L318: - | M318: - | N318: - | O318: - | P318: - | Q318: - | R318: √ | S318: -
A319: =Questionnaire!A319 -> 317 | B319: - | C319: √ | D319: √ | E319: - | F319: - | G319: - | I319: - | J319: √ | K319: - | L319: √ | M319: - | N319: - | O319: - | P319: - | Q319: - | R319: - | S319: -
A320: =Questionnaire!A320 -> 318 | B320: - | C320: - | D320: - | E320: - | F320: - | G320: √ | H320: √ | I320: - | J320: - | K320: - | L320: - | M320: - | N320: - | O320: - | P320: - | Q320: - | R320: - | S320: -
A321: =Questionnaire!A321 -> 319 | B321: - | C321: √ | D321: - | E321: - | F321: - | G321: √ | H321: √ | I321: - | J321: - | K321: √ | L321: - | M321: - | N321: - | O321: - | P321: - | Q321: - | R321: - | S321: -
A322: =Questionnaire!A322 -> 320 | B322: - | C322: √ | D322: - | E322: - | F322: - | G322: √ | I322: - | J322: - | K322: - | L322: - | M322: - | N322: - | O322: - | P322: - | Q322: - | R322: - | S322: -
A323: =Questionnaire!A323 -> 321 | B323: - | C323: √ | D323: - | E323: - | F323: - | G323: - | H323: √ | I323: - | J323: √ | K323: √ | L323: √ | M323: - | N323: - | O323: - | P323: - | Q323: - | R323: - | S323: -
A324: =Questionnaire!A324 -> 322 | B324: - | C324: √ | D324: - | E324: - | F324: - | G324: - | H324: - | I324: - | K324: √ | L324: √ | M324: - | N324: - | O324: - | P324: - | Q324: - | R324: √ | S324: -
A325: =Questionnaire!A325 -> 323 | B325: - | C325: √ | D325: - | E325: - | F325: - | G325: - | H325: √ | I325: - | J325: √ | L325: √ | M325: - | N325: - | O325: - | P325: - | Q325: - | R325: - | S325: -
A326: =Questionnaire!A326 -> 324 | B326: - | C326: √ | D326: √ | E326: - | F326: - | G326: - | H326: - | I326: √ | J326: - | K326: - | L326: - | M326: - | N326: - | O326: - | P326: - | Q326: - | R326: - | S326: -
A327: =Questionnaire!A327 -> 325 | B327: - | C327: √ | D327: - | E327: - | F327: - | G327: - | H327: √ | I327: - | J327: - | K327: - | L327: - | M327: - | N327: - | O327: - | P327: - | Q327: - | R327: - | S327: -
A328: =Questionnaire!A328 -> 326 | B328: - | C328: √ | D328: - | E328: - | F328: - | G328: √ | I328: - | J328: - | K328: - | L328: - | M328: - | N328: - | O328: - | P328: - | Q328: - | R328: - | S328: -
A329: =Questionnaire!A329 -> 327 | B329: - | C329: √ | D329: - | E329: - | F329: - | G329: - | H329: √ | I329: - | J329: - | K329: √ | L329: - | M329: - | N329: - | O329: - | P329: - | Q329: - | R329: - | S329: √
A330: =Questionnaire!A330 -> 328 | B330: - | C330: √ | D330: - | E330: - | F330: - | G330: - | H330: √ | I330: - | J330: - | K330: √ | L330: - | M330: - | N330: - | O330: - | P330: - | Q330: - | R330: - | S330: √
A331: =Questionnaire!A331 -> 329 | B331: - | C331: √ | D331: - | E331: - | F331: - | G331: - | H331: - | I331: - | J331: √ | K331: - | L331: √ | M331: - | N331: - | O331: - | P331: - | Q331: - | R331: - | S331: -
A332: =Questionnaire!A332 -> 330 | B332: - | C332: √ | D332: - | E332: - | F332: - | G332: √ | H332: √ | I332: - | J332: - | K332: √ | L332: √ | M332: - | N332: - | O332: - | P332: - | Q332: - | R332: - | S332: -
A333: =Questionnaire!A333 -> 331 | B333: - | C333: √ | D333: √ | E333: √ | F333: - | G333: - | H333: √ | I333: - | J333: - | K333: - | L333: √ | M333: - | N333: - | O333: - | P333: - | Q333: - | R333: - | S333: -
A334: =Questionnaire!A334 -> 332 | B334: - | C334: √ | D334: - | E334: - | F334: - | G334: - | H334: √ | I334: - | J334: - | K334: - | L334: √ | M334: - | N334: - | O334: - | P334: - | Q334: - | R334: - | S334: -
A335: =Questionnaire!A335 -> 333 | B335: - | C335: √ | D335: - | E335: - | F335: - | G335: √ | H335: √ | I335: - | J335: - | K335: - | L335: √ | M335: - | N335: - | O335: - | P335: - | Q335: - | R335: - | S335: -
A336: =Questionnaire!A336 -> 334 | B336: - | C336: - | D336: - | E336: - | F336: - | G336: √ | H336: - | I336: √ | J336: √ | K336: √ | L336: √ | M336: - | N336: - | O336: - | P336: - | Q336: - | R336: - | S336: -
A337: =Questionnaire!A337 -> 335 | B337: - | C337: √ | D337: - | E337: - | F337: - | G337: - | H337: √ | I337: - | J337: - | K337: - | L337: √ | M337: - | N337: - | O337: - | P337: - | Q337: - | R337: - | S337: -
A338: =Questionnaire!A338 -> 336 | B338: - | C338: √ | D338: - | E338: - | F338: - | G338: - | H338: √ | I338: - | J338: - | K338: √ | L338: √ | M338: - | N338: - | O338: - | P338: - | Q338: - | R338: - | S338: -
A339: =Questionnaire!A339 -> 337 | B339: - | C339: - | D339: √ | E339: √ | F339: - | G339: - | H339: - | I339: √ | J339: - | K339: - | L339: √ | M339: - | N339: √ | O339: - | P339: - | Q339: - | R339: - | S339: -
A340: =Questionnaire!A340 -> 338 | B340: - | C340: √ | D340: √ | E340: - | F340: - | G340: √ | H340: - | I340: √ | J340: - | K340: √ | L340: - | M340: - | N340: - | O340: - | P340: - | Q340: - | R340: - | S340: -
... A397: =Questionnaire!A397 -> 395 | B397: - | C397: √ | D397: - | E397: - | F397: - | G397: - | H397: √ | I397: - | J397: - | K397: - | L397: - | M397: - | N397: - | O397: - | P397: - | Q397: - | R397: - | S397: -

Sheet Results
A1: No. | B1: Sex | C1: HbA1c | D1: Albiminuria | E1: T.Cholesterol | F1: HDL | G1: TG | H1: LDL | I1: Creatinine (mmol) | J1: Creatinine (mg) | K1: Urea | L1: eGFR | M1: AC Ratio | N1: Na+ | O1: K+ | P1: CL-
A2: =Questionnaire!A3 -> 1 | B2: M | C2: 0.045 | D2: 51 | E2: 3 | F2: 0.8 | G2: 2 | H2: 3 | I2: =122.6/88.4 -> 1.3868778 | J2: =I2*16 -> 22.190045 | K2: 4.2 | L2: =((140-Questionnaire!B3)*Questionnaire!Y3)/(72*Results!I2) -> 69.400489 | M2: =D2 -> 51 | N2: 153.4 | O2: 6.54 | P2: 117
A3: =Questionnaire!A4 -> 2 | B3: M | C3: 8.5 | D3: 16 | E3: 6 | F3: 1.5 | G3: 3 | H3: 3.9 | I3: 0.9 | J3: =I3*16 -> 14.4 | K3: 16.6 | L3: =((140-Questionnaire!B4)*Questionnaire!Y4)/(72*Results!I3) -> 83.271605 | M3: =D3/J3 -> 1.1111111 | N3: 140 | O3: 4.5 | P3: 86.2
A4: =Questionnaire!A5 -> 3 | B4: M | C4: 0.092 | D4: 29 | E4: 3 | F4: 0.9 | G4: 2 | H4: 2 | I4: =120.8/88.4 -> 1.3665158 | J4: =I4*16 -> 21.864253 | K4: 4.6 | L4: =((140-Questionnaire!B5)*Questionnaire!Y5)/(72*Results!I4) -> 42.687638 | M4: =D4/J4 -> 1.3263659 | N4: 145.1 | O4: 5.16 | P4: 108.2
A5: =Questionnaire!A6 -> 4 | B5: F | C5: 5,2% | D5: 62 | E5: 7 | F5: 1.3 | G5: 2 | H5: 3.4 | I5: =92/88.4 -> 1.040724 | J5: =I5*16 -> 16.651584 | K5: 6.6 | L5: =(((140-Questionnaire!B6)*Questionnaire!Y6)/(72*Results!I5))*0.85 -> 81.424354 | M5: =D5/J5 -> 3.7233696 | N5: 145.3 | O5: 5.18 | P5: 110.4
A6: =Questionnaire!A7 -> 5 | B6: F | C6: 0.068 | D6: 160 | E6: 8 | F6: 1.6 | G6: 2 | H6: 3.4 | I6: =85.64/88.4 -> 0.96877828 | J6: =I6*16 -> 15.500452 | K6: 3.7 | L6: =(((140-Questionnaire!B7)*Questionnaire!Y7)/(72*Results!I6))*0.85 -> 51.242232 | M6: =D6/J6 -> 10.322279 | N6: 148 | O6: 4.2 | P6: 107.9
A7: =Questionnaire!A8 -> 6 | B7: M | C7: 0.065 | D7: 39 | E7: 3 | F7: 1 | G7: 1 | H7: 1.4 | I7: =101.87/88.4 -> 1.1523756 | J7: =I7*16 -> 18.438009 | K7: 4.2 | L7: =((140-Questionnaire!B8)*Questionnaire!Y8)/(72*Results!I7) -> 74.194562 | M7: =D7/J7 -> 2.1151958 | N7: 145.4 | O7: 4.33 | P7: 109.5
A8: =Questionnaire!A9 -> 7 | B8: F | C8: 0.056 | D8: 19 | E8: 4 | F8: 1.4 | G8: 1 | H8: 1.3 | I8: =78.43/88.4 -> 0.88721719 | J8: =I8*16 -> 14.195475 | K8: 2.8 | L8: =(((140-Questionnaire!B9)*Questionnaire!Y9)/(72*Results!I8))*0.85 -> 85.585958 | M8: =D8/J8 -> 1.3384547 | N8: 147.6 | O8: 4.86 | P8: 111.9
A9: =Questionnaire!A10 -> 8 | B9: M | C9: 0.052 | D9: 4 | E9: 3 | F9: 1.1 | G9: 1 | H9: 5.4 | I9: =187.51/88.4 -> 2.1211538 | J9: =I9*16 -> 33.938462 | K9: 12.9 | L9: =((140-Questionnaire!B10)*Questionnaire!Y10)/(72*Results!I9) -> 37.813539 | M9: =D9/J9 -> 0.11786038 | N9: 129.1 | O9: 5.81 | P9: 102
A10: =Questionnaire!A11 -> 9 | B10: F | C10: 0.07 | D10: 80 | E10: 3 | F10: 1.1 | G10: 1 | H10: 2.2 | I10: =281.26/88.4 -> 3.1816742 | J10: =I10*16 -> 50.906787 | K10: 10.1 | L10: =(((140-Questionnaire!B11)*Questionnaire!Y11)/(72*Results!I10))*0.85 -> 17.914223 | M10: =D10/J10 -> 1.5714997 | N10: 143.8 | O10: 6.08 | P10: 110.6
A11: =Questionnaire!A12 -> 10 | B11: F | C11: 0.077 | D11: 8 | E11: 6 | F11: 1.5 | G11: 4 | H11: 2.5 | I11: 0.9 | J11: =I11*16 -> 14.4 | K11: 4.5 | L11: =(((140-Questionnaire!B12)*Questionnaire!Y12)/(72*Results!I11))*0.85 -> 95.861111 | M11: =D11/J11 -> 0.55555556 | N11: 148.2 | O11: 4.8 | P11: 110.1
A12: =Questionnaire!A13 -> 11 | B12: F | C12: 0.041 | D12: 5 | E12: 5 | F12: 0.9 | G12: 3 | H12: 2.2 | I12: =95.56/88.4 -> 1.0809955 | J12: =I12*16 -> 17.295928 | K12: 5.8 | L12: =(((140-Questionnaire!B13)*Questionnaire!Y13)/(72*Results!I12))*0.85 -> 91.113934 | M12: =D12/J12 -> 0.28908539 | N12: 142.8 | O12: 3.59 | P12: 106.4
A13: =Questionnaire!A14 -> 12 | B13: F | C13: 0.08 | D13: 54 | E13: 3 | F13: 1.4 | G13: 1 | H13: 1.6 | I13: =89.25/88.4 -> 1.0096154 | J13: =I13*16 -> 16.153846 | K13: 3.8 | L13: =(((140-Questionnaire!B14)*Questionnaire!Y14)/(72*Results!I13))*0.85 -> 74.648889 | M13: =D13/J13 -> 3.3428571 | N13: 145.4 | O13: 5.51 | P13: 113.9
A14: =Questionnaire!A15 -> 13 | B14: F | C14: 0.078 | D14: 140 | E14: 5 | F14: 1.2 | G14: 1 | H14: 2.2 | I14: =84.74/88.4 -> 0.95859729 | J14: =I14*16 -> 15.337557 | K14: 5.5 | L14: =(((140-Questionnaire!B15)*Questionnaire!Y15)/(72*Results!I14))*0.85 -> 65.431978 | M14: =D14/J14 -> 9.1279207 | N14: 142.3 | O14: 4.41 | P14: 108.1
A15: =Questionnaire!A16 -> 14 | B15: F | C15: 0.062 | D15: 40 | E15: 5 | F15: 1.8 | G15: 1 | H15: 4.9 | I15: =100.96/88.4 -> 1.1420814 | J15: =I15*16 -> 18.273303 | K15: 3.4 | L15: =(((140-Questionnaire!B16)*Questionnaire!Y16)/(72*Results!I15))*0.85 -> 50.27857 | M15: =D15/J15 -> 2.1889857 | N15: 143.9 | O15: 4.45 | P15: 107.9
A16: =Questionnaire!A17 -> 15 | B16: F | C16: 0.048 | D16: 69 | E16: 4 | F16: 1.5 | G16: 3 | H16: 1.2 | I16: =109.08/88.4 -> 1.2339367 | J16: =I16*16 -> 19.742986 | K16: 4.8 | L16: =(((140-Questionnaire!B17)*Questionnaire!Y17)/(72*Results!I16))*0.85 -> 60.886882 | M16: =D16/J16 -> 3.494912 | N16: 147.8 | O16: 5.87 | P16: 112.8
A17: =Questionnaire!A18 -> 16 | B17: F | C17: 0.112 | D17: 29 | E17: 4 | F17: 1.3 | G17: 2 | H17: 2.8 | I17: =95.56/88.4 -> 1.0809955 | J17: =I17*16 -> 17.295928 | K17: 3.5 | L17: =(((140-Questionnaire!B18)*Questionnaire!Y18)/(72*Results!I17))*0.85 -> 59.62868 | M17: =D17/J17 -> 1.6766953 | N17: 146.4 | O17: 4.75 | P17: 109.2
A18: =Questionnaire!A19 -> 17 | B18: F | C18: 0.086 | D18: 18 | E18: 5 | F18: 1.4 | G18: 3 | H18: 2.5 | I18: =76.62/88.4 -> 0.86674208 | J18: =I18*16 -> 13.867873 | K18: 2.5 | L18: =(((140-Questionnaire!B19)*Questionnaire!Y19)/(72*Results!I18))*0.85 -> 69.792004 | M18: =D18/J18 -> 1.297964 | N18: 145 | O18: 4.6 | P18: 110.4
A19: =Questionnaire!A20 -> 18 | B19: F | C19: 0.107 | D19: 74 | E19: 5 | F19: 1.3 | G19: 2 | H19: 3.1 | I19: =99.16/88.4 -> 1.1217195 | J19: =I19*16 -> 17.947511 | K19: 3.1 | L19: =(((140-Questionnaire!B20)*Questionnaire!Y20)/(72*Results!I19))*0.85 -> 84.869706 | M19: =D19/J19 -> 4.1231343 | N19: 143.6 | O19: 4.47 | P19: 105.2
A20: =Questionnaire!A21 -> 19 | B20: F | C20: 0.15 | D20: 100 | E20: 4 | F20: 1.3 | G20: 2 | H20: 1.8 | I20: =99.16/88.4 -> 1.1217195 | J20: =I20*16 -> 17.947511 | K20: 3.7 | L20: =(((140-Questionnaire!B21)*Questionnaire!Y21)/(72*Results!I20))*0.85 -> 51.307021 | M20: =D20/J20 -> 5.5718031 | N20: 140.9 | O20: 4.42 | P20: 106.1
A21: =Questionnaire!A22 -> 20 | B21: F | C21: 0.118 | D21: 71 | E21: 5 | F21: 1.7 | G21: 2 | H21: 2.1 | I21: =92.85/88.4 -> 1.0503394 | J21: =I21*16 -> 16.80543 | K21: 4.3 | L21: =(((140-Questionnaire!B22)*Questionnaire!Y22)/(72*Results!I21))*0.85 -> 91.952423 | M21: =D21/J21 -> 4.224825 | N21: 137.8 | O21: 3.83 | P21: 111.9
A22: =Questionnaire!A23 -> 21 | B22: M | C22: 0.049 | D22: 84 | E22: 3 | F22: 1 | G22: 1 | H22: 2.3 | I22: =200.13/88.4 -> 2.263914 | J22: =I22*16 -> 36.222624 | K22: 9.1 | L22: =((140-Questionnaire!B23)*Questionnaire!Y23)/(72*Results!I22) -> 30.41684 | M22: =D22/J22 -> 2.3189927 | N22: 143.9 | O22: 6.04 | P22: 111.9
A23: =Questionnaire!A24 -> 22 | B23: M | C23: 0.098 | D23: 19 | E23: 4 | F23: 1 | G23: 1.2 | H23: 1,8 | I23: =110/88.4 -> 1.2443439 | J23: =I23*16 -> 19.909502 | K23: 7.1 | L23: =((140-Questionnaire!B24)*Questionnaire!Y24)/(72*Results!I23) -> 92.250758 | M23: =D23/J23 -> 0.95431818 | N23: 138 | O23: 4.1 | P23: 102
A24: =Questionnaire!A25 -> 23 | B24: M | C24: 0.051 | D24: 16 | E24: 8 | F24: 1.6 | G24: 7 | H24: 3.1 | I24: =123.5/88.4 -> 1.3970588 | J24: =I24*16 -> 22.352941 | K24: 5.4 | L24: =((140-Questionnaire!B25)*Questionnaire!Y25)/(72*Results!I24) -> 80.894152 | M24: =D24/J24 -> 0.71578947 | N24: 149.7 | O24: 5.51 | P24: 111.4
A25: =Questionnaire!A26 -> 24 | B25: M | C25: 0.041 | D25: 124 | E25: 4 | F25: 1.2 | G25: 2 | H25: 2.2 | I25: =642.75/88.4 -> 7.2709276 | J25: =I25*16 -> 116.33484 | K25: 26.5 | L25: =((140-Questionnaire!B26)*Questionnaire!Y26)/(72*Results!I25) -> 9.8336834 | M25: =D25/J25 -> 1.0658888 | N25: 140.1 | O25: 5.37 | P25: 103.1
A26: =Questionnaire!A27 -> 25 | B26: F | C26: 0.048 | D26: 58 | E26: 5 | F26: 1.3 | G26: 2 | H26: 2.4 | I26: =90.15/88.4 -> 1.0197964 | J26: =I26*16 -> 16.316742 | K26: 4.9 | L26: =(((140-Questionnaire!B27)*Questionnaire!Y27)/(72*Results!I26))*0.85 -> 71.356837 | M26: =D26/J26 -> 3.5546312 | N26: 144.8 | O26: 4.46 | P26: 107.6
A27: =Questionnaire!A28 -> 26 | B27: F | C27: 0.065 | D27: 62 | E27: 6 | F27: 1.3 | G27: 2 | H27: 2 | I27: =92.85/88.4 -> 1.0503394 | J27: =I27*16 -> 16.80543 | K27: 5.3 | L27: =(((140-Questionnaire!B28)*Questionnaire!Y28)/(72*Results!I27))*0.85 -> 56.648358 | M27: =D27/J27 -> 3.6892838 | N27: 154 | O27: 4.66 | P27: 109.9
A28: =Questionnaire!A29 -> 27 | B28: F | C28: 0.099 | D28: 9 | E28: 6 | F28: 1.9 | G28: 3 | H28: 2.9 | I28: 1.4 | J28: =I28*16 -> 22.4 | K28: 6.4 | L28: =(((140-Questionnaire!B29)*Questionnaire!Y29)/(72*Results!I28))*0.85 -> 26.857639 | M28: =D28/J28 -> 0.40178571 | N28: 138.5 | O28: 5.38 | P28: 106.5
A29: =Questionnaire!A30 -> 28 | B29: F | C29: 0.132 | D29: 60 | E29: 6 | F29: 1.1 | G29: 2 | H29: 4.6 | I29: =123.5/88.4 -> 1.3970588 | J29: =I29*16 -> 22.352941 | K29: 8.5 | L29: =(((140-Questionnaire!B30)*Questionnaire!Y30)/(72*Results!I29))*0.85 -> 34.899708 | M29: =D29/J29 -> 2.6842105 | N29: 134.6 | O29: 5.5 | P29: 102
A30: =Questionnaire!A31 -> 29 | B30: F | C30: 0.072 | D30: 62 | E30: 6 | F30: 1.1 | G30: 4 | H30: 1.5 | I30: =96.46/88.4 -> 1.0911765 | J30: =I30*16 -> 17.458824 | K30: 5.5 | L30: =(((140-Questionnaire!B31)*Questionnaire!Y31)/(72*Results!I30))*0.85 -> 74.262354 | M30: =D30/J30 -> 3.5512129 | N30: 144 | O30: 5.07 | P30: 107
A31: =Questionnaire!A32 -> 30 | B31: M | C31: 0.057 | D31: 160 | E31: 6 | F31: 1.2 | G31: 2 | H31: 1.8 | I31: =78.43/88.4 -> 0.88721719 | J31: =I31*16 -> 14.195475 | K31: 3.6 | L31: =((140-Questionnaire!B32)*Questionnaire!Y32)/(72*Results!I31) -> 88.572825 | M31: =D31/J31 -> 11.271197 | N31: 139.7 | O31: 3.75 | P31: 103.7
A32: =Questionnaire!A33 -> 31 | B32: F | C32: 0.07 | D32: 4 | E32: 4 | F32: 1.2 | G32: 2 | H32: 3.8 | I32: =92.85/88.4 -> 1.0503394 | J32: =I32*16 -> 16.80543 | K32: 4.9 | L32: =(((140-Questionnaire!B33)*Questionnaire!Y33)/(72*Results!I32))*0.85 -> 56.55844 | M32: =D32/J32 -> 0.23801831 | N32: 148.4 | O32: 5.17 | P32: 111.1
A33: =Questionnaire!A34 -> 32 | B33: F | C33: 0.087 | D33: 24 | E33: 5 | F33: 1.3 | G33: 2 | H33: 0.9 | I33: =96.46/88.4 -> 1.0911765 | J33: =I33*16 -> 17.458824 | K33: 3.7 | L33: =(((140-Questionnaire!B34)*Questionnaire!Y34)/(72*Results!I33))*0.85 -> 61.798742 | M33: =D33/J33 -> 1.3746631 | N33: 147.9 | O33: 5.83 | P33: 112.9
A34: =Questionnaire!A35 -> 33 | B34: M | C34: 0.078 | D34: 15 | E34: 3 | F34: 1 | G34: 0 | H34: 1.3 | I34: =111.78/88.4 -> 1.2644796 | J34: =I34*16 -> 20.231674 | K34: 4.6 | L34: =((140-Questionnaire!B35)*Questionnaire!Y35)/(72*Results!I34) -> 69.198425 | M34: =D34/J34 -> 0.7414117 | N34: 148.1 | O34: 4.84 | P34: 110.1
A35: =Questionnaire!A36 -> 34 | B35: F | C35: 0.04 | D35: 4 | E35: 4 | F35: 1.6 | G35: 1 | H35: 2.2 | I35: =68.51/88.4 -> 0.775 | J35: =I35*16 -> 12.4 | K35: 4.4 | L35: =(((140-Questionnaire!B36)*Questionnaire!Y36)/(72*Results!I35))*0.85 -> 51.106631 | M35: =D35/J35 -> 0.32258065 | N35: 137 | O35: 5.52 | P35: 104.8
A36: =Questionnaire!A37 -> 35 | B36: F | C36: 0.057 | D36: 19 | E36: 4 | F36: 1 | G36: 2 | H36: 1.9 | I36: 1.1 | J36: =I36*16 -> 17.6 | K36: 3.2 | L36: =(((140-Questionnaire!B37)*Questionnaire!Y37)/(72*Results!I36))*0.85 -> 97.42803 | M36: =D36/J36 -> 1.0795455 | N36: 150 | O36: 4.13 | P36: 112.3
A37: =Questionnaire!A38 -> 36 | B37: F | C37: 0.068 | D37: 5 | E37: 4 | F37: 1.2 | G37: 1 | H37: 3.3 | I37: =85.64/88.4 -> 0.96877828 | J37: =I37*16 -> 15.500452 | K37: 3.6 | L37: =(((140-Questionnaire!B38)*Questionnaire!Y38)/(72*Results!I37))*0.85 -> 68.387968 | M37: =D37/J37 -> 0.32257123 | N37: 143.3 | O37: 4.21 | P37: 108.1
A38: =Questionnaire!A39 -> 37 | B38: M | C38: 0.075 | D38: 23 | E38: 5 | F38: 1.1 | G38: 2 | H38: 1.7 | I38: =115.39/88.4 -> 1.3053167 | J38: =I38*16 -> 20.885068 | K38: 4.3 | L38: =((140-Questionnaire!B39)*Questionnaire!Y39)/(72*Results!I38) -> 97.539119 | M38: =D38/J38 -> 1.1012653 | N38: 150.1 | O38: 4.43 | P38: 112.4
A39: =Questionnaire!A40 -> 38 | B39: F | C39: 0.126 | D39: 4 | E39: 5 | F39: 1.4 | G39: 2 | H39: 1.6 | I39: =86.54/88.4 -> 0.97895928 | J39: =I39*16 -> 15.663348 | K39: 4.7 | L39: =(((140-Questionnaire!B40)*Questionnaire!Y40)/(72*Results!I39))*0.85 -> 92.904784 | M39: =D39/J39 -> 0.25537324 | N39: 147.2 | O39: 3.74 | P39: 110.4
A40: =Questionnaire!A41 -> 39 | B40: F | C40: 0.041 | D40: 11 | E40: 5 | F40: 1.2 | G40: 1 | H40: 3.6 | I40: =144.23/88.4 -> 1.6315611 | J40: =I40*16 -> 26.104977 | K40: 5.9 | L40: =(((140-Questionnaire!B41)*Questionnaire!Y41)/(72*Results!I40))*0.85 -> 48.45053 | M40: =D40/J40 -> 0.42137558 | N40: 147.2 | O40: 5.5 | P40: 110.2
A41: =Questionnaire!A42 -> 40 | B41: M | C41: 0.045 | D41: 18 | E41: 5 | F41: 1.2 | G41: 1 | H41: 1.9 | I41: =113.58/88.4 -> 1.2848416 | J41: =I41*16 -> 20.557466 | K41: 6.8 | L41: =((140-Questionnaire!B42)*Questionnaire!Y42)/(72*Results!I41) -> 80.738442 | M41: =D41/J41 -> 0.87559429 | N41: 147.9 | O41: 4.57 | P41: 111.6
A42: =Questionnaire!A43 -> 41 | B42: F | C42: 0.051 | D42: 15 | E42: 5 | F42: 1.1 | G42: 3 | H42: 1.8 | I42: =113.58/88.4 -> 1.2848416 | J42: =I42*16 -> 20.557466 | K42: 6.9 | L42: =(((140-Questionnaire!B43)*Questionnaire!Y43)/(72*Results!I42))*0.85 -> 39.877375 | M42: =D42/J42 -> 0.72966191 | N42: 147.1 | O42: 4.32 | P42: 111.2
A43: =Questionnaire!A44 -> 42 | B43: F | C43: 0.08 | D43: 5 | E43: 3 | F43: 1.4 | G43: 1 | H43: 1.7 | I43: =88.34/88.4 -> 0.99932127 | J43: =I43*16 -> 15.98914 | K43: 4.5 | L43: =(((140-Questionnaire!B44)*Questionnaire!Y44)/(72*Results!I43))*0.85 -> 49.380739 | M43: =D43/J43 -> 0.31271225 | N43: 128.4 | O43: 4.07 | P43: 107.2
A44: =Questionnaire!A45 -> 43 | B44: F | C44: 0.052 | D44: 160 | E44: 4 | F44: 1.5 | G44: 1 | H44: 2.7 | I44: =185.7/88.4 -> 2.1006787 | J44: =I44*16 -> 33.61086 | K44: 14.8 | L44: =(((140-Questionnaire!B45)*Questionnaire!Y45)/(72*Results!I44))*0.85 -> 31.122877 | M44: =D44/J44 -> 4.7603662 | N44: 150 | O44: 5.69 | P44: 117
A45: =Questionnaire!A46 -> 44 | B45: F | C45: 0.089 | D45: 160 | E45: 5 | F45: 1.7 | G45: 1 | H45: 1.8 | I45: =99.29/88.4 -> 1.12319 | J45: =I45*16 -> 17.971041 | K45: 7.3 | L45: =(((140-Questionnaire!B46)*Questionnaire!Y46)/(72*Results!I45))*0.85 -> 36.787581 | M45: =D45/J45 -> 8.9032128 | N45: 143 | O45: 4.1 | P45: 104
A46: =Questionnaire!A47 -> 45 | B46: M | C46: 0.081 | D46: 71 | E46: 6 | F46: 1.2 | G46: 2 | H46: 2 | I46: =88.84/88.4 -> 1.0049774 | J46: =I46*16 -> 16.079638 | K46: 2.6 | L46: =((140-Questionnaire!B47)*Questionnaire!Y47)/(72*Results!I46) -> 67.220972 | M46: =D46/J46 -> 4.4155223 | N46: 145 | O46: 4.6 | P46: 103
A47: =Questionnaire!A48 -> 46 | B47: F | C47: 0.066 | D47: 12 | E47: 3 | F47: 1.4 | G47: 1 | H47: 0.9 | I47: =98.54/88.4 -> 1.1147059 | J47: =I47*16 -> 17.835294 | K47: 3.3 | L47: =(((140-Questionnaire!B48)*Questionnaire!Y48)/(72*Results!I47))*0.85 -> 75.723761 | M47: =D47/J47 -> 0.67282322 | N47: 141 | O47: 4.6 | P47: 96
A48: =Questionnaire!A49 -> 47 | B48: F | C48: 0.062 | D48: 160 | E48: 8 | F48: 1.6 | G48: 1 | H48: 3.5 | I48: =275.47/88.4 -> 3.1161765 | J48: =I48*16 -> 49.858824 | K48: 23 | L48: =(((140-Questionnaire!B49)*Questionnaire!Y49)/(72*Results!I48))*0.85 -> 29.625872 | M48: =D48/J48 -> 3.2090609 | N48: 144 | O48: 4.3 | P48: 111
A49: =Questionnaire!A50 -> 48 | B49: F | C49: 0.12 | D49: 160 | E49: 7 | F49: 1.5 | G49: 3 | H49: 2.9 | I49: =86.6/88.4 -> 0.97963801 | J49: =I49*16 -> 15.674208 | K49: 3.2 | L49: =(((140-Questionnaire!B50)*Questionnaire!Y50)/(72*Results!I49))*0.85 -> 65.942725 | M49: =D49/J49 -> 10.207852 | N49: 142 | O49: 3.9 | P49: 98
A50: =Questionnaire!A51 -> 49 | B50: F | C50: 0.066 | D50: 21 | E50: 3 | F50: 1.4 | G50: 0 | H50: 1.3 | I50: =114.97/88.4 -> 1.3005656 | J50: =I50*16 -> 20.80905 | K50: 4.5 | L50: =(((140-Questionnaire!B51)*Questionnaire!Y51)/(72*Results!I50))*0.85 -> 47.637393 | M50: =D50/J50 -> 1.0091763 | N50: 147 | O50: 3.6 | P50: 106
A51: =Questionnaire!A52 -> 50 | B51: M | C51: 0.04 | D51: 5 | E51: 4 | F51: 1.3 | G51: 1 | H51: 1.2 | I51: =155.95/88.4 -> 1.7641403 | J51: =I51*16 -> 28.226244 | K51: 4.3 | L51: =((140-Questionnaire!B52)*Questionnaire!Y52)/(72*Results!I51) -> 32.751238 | M51: =D51/J51 -> 0.17714011 | N51: 141 | O51: 4 | P51: 101
A52: =Questionnaire!A53 -> 51 | B52: F | C52: 0.095 | D52: 5 | E52: 7 | F52: 1.7 | G52: 4 | H52: 3.2 | I52: =84.36/88.4 -> 0.95429864 | J52: =I52*16 -> 15.268778 | K52: 3.2 | L52: =(((140-Questionnaire!B53)*Questionnaire!Y53)/(72*Results!I52))*0.85 -> 70.514264 | M52: =D52/J52 -> 0.32746562 | N52: 141 | O52: 3.8 | P52: 99
A53: =Questionnaire!A54 -> 52 | B53: F | C53: 0.052 | D53: 110 | E53: 4 | F53: 1.5 | G53: 1 | H53: 1.9 | I53: =61.96/88.4 -> 0.70090498 | J53: =I53*16 -> 11.21448 | K53: 5 | L53: =(((140-Questionnaire!B54)*Questionnaire!Y54)/(72*Results!I53))*0.85 -> 40.3734 | M53: =D53/J53 -> 9.8087476 | N53: 137 | O53: 4 | P53: 96
A54: =Questionnaire!A55 -> 53 | B54: F | C54: 0.087 | D54: 4 | E54: 5 | F54: 2.1 | G54: 1 | H54: 2.5 | I54: =81.37/88.4 -> 0.92047511 | J54: =I54*16 -> 14.727602 | K54: 4.6 | L54: =(((140-Questionnaire!B55)*Questionnaire!Y55)/(72*Results!I54))*0.85 -> 70.591564 | M54: =D54/J54 -> 0.27159887 | N54: 146 | O54: 3.4 | P54: 105
A55: =Questionnaire!A56 -> 54 | B55: M | C55: 0.076 | D55: 22 | E55: 6 | F55: 1.1 | G55: 2 | H55: 2.4 | I55: =170.95/88.4 -> 1.9338235 | J55: =I55*16 -> 30.941176 | K55: 12.9 | L55: =((140-Questionnaire!B56)*Questionnaire!Y56)/(72*Results!I55) -> 47.861428 | M55: =D55/J55 -> 0.71102662 | N55: 142 | O55: 5.4 | P55: 106
A56: =Questionnaire!A57 -> 55 | B56: F | C56: 0.071 | D56: 7 | E56: 4 | F56: 1.6 | G56: 1 | H56: 3 | I56: =76.89/88.4 -> 0.86979638 | J56: =I56*16 -> 13.916742 | K56: 4.8 | L56: =(((140-Questionnaire!B57)*Questionnaire!Y57)/(72*Results!I56))*0.85 -> 65.149348 | M56: =D56/J56 -> 0.50299129 | N56: 145 | O56: 3.8 | P56: 105
A57: =Questionnaire!A58 -> 56 | B57: F | C57: 0.123 | D57: 7 | E57: 6 | F57: 1.7 | G57: 1 | H57: 2.8 | I57: =98.54/88.4 -> 1.1147059 | J57: =I57*16 -> 17.835294 | K57: 6.7 | L57: =(((140-Questionnaire!B58)*Questionnaire!Y58)/(72*Results!I57))*0.85 -> 57.783055 | M57: =D57/J57 -> 0.39248021 | N57: 149 | O57: 4.5 | P57: 105
A58: =Questionnaire!A59 -> 57 | B58: F | C58: 0.059 | D58: 8 | E58: 4 | F58: 1.8 | G58: 0 | H58: 1.5 | I58: =109.74/88.4 -> 1.2414027 | J58: =I58*16 -> 19.862443 | K58: 5.2 | L58: =(((140-Questionnaire!B59)*Questionnaire!Y59)/(72*Results!I58))*0.85 -> 24.231102 | M58: =D58/J58 -> 0.40277018 | N58: 145 | O58: 3.9 | P58: 105
A59: =Questionnaire!A60 -> 58 | B59: F | C59: 0.072 | D59: 13 | E59: 5 | F59: 1.6 | G59: 1 | H59: 1.6 | I59: =93.32/88.4 -> 1.0556561 | J59: =I59*16 -> 16.890498 | K59: 3.1 | L59: =(((140-Questionnaire!B60)*Questionnaire!Y60)/(72*Results!I59))*0.85 -> 71.527397 | M59: =D59/J59 -> 0.76966352 | N59: 143 | O59: 4.1 | P59: 101
A60: =Questionnaire!A61 -> 59 | B60: F | C60: 0.091 | D60: 13 | E60: 6 | F60: 1.6 | G60: 1 | H60: 2.6 | I60: =68.68/88.4 -> 0.77692308 | J60: =I60*16 -> 12.430769 | K60: 3.1 | L60: =(((140-Questionnaire!B61)*Questionnaire!Y61)/(72*Results!I60))*0.85 -> 64.959777 | M60: =D60/J60 -> 1.0457921 | N60: 145 | O60: 4.4 | P60: 106
A61: =Questionnaire!A62 -> 60 | B61: M | C61: 0.068 | D61: 7 | E61: 5 | F61: 1.2 | G61: 2 | H61: 1.9 | I61: =117.2/88.4 -> 1.3257919 | J61: =I61*16 -> 21.21267 | K61: 7.8 | L61: =((140-Questionnaire!B62)*Questionnaire!Y62)/(72*Results!I61) -> 42.113197 | M61: =D61/J61 -> 0.32999147 | N61: 145 | O61: 4.2 | P61: 102
A62: =Questionnaire!A63 -> 61 | B62: F | C62: 0.048 | D62: 7 | E62: 5.5 | F62: 1.1 | G62: 1 | H62: 2.2 | I62: 1.1 | J62: =I62*16 -> 17.6 | K62: 6.6 | L62: =(((140-Questionnaire!B63)*Questionnaire!Y63)/(72*Results!I62))*0.85 -> 69.722538 | M62: =D62/J62 -> 0.39772727 | N62: 144 | O62: 4.1 | P62: 105
A63: =Questionnaire!A64 -> 62 | B63: M | C63: 0.096 | D63: 109 | E63: 4 | F63: 1.6 | G63: 1 | H63: 2.5 | I63: =87.34/88.4 -> 0.98800905 | J63: =I63*16 -> 15.808145 | K63: 4.2 | L63: =((140-Questionnaire!B64)*Questionnaire!Y64)/(72*Results!I63) -> 63.961402 | M63: =D63/J63 -> 6.8951798 | N63: 137 | O63: 4 | P63: 102
A64: =Questionnaire!A65 -> 63 | B64: F | C64: 0.068 | D64: 8 | E64: 6 | F64: 2.1 | G64: 1 | H64: 3 | I64: =79.88/88.4 -> 0.90361991 | J64: =I64*16 -> 14.457919 | K64: 2.8 | L64: =(((140-Questionnaire!B65)*Questionnaire!Y65)/(72*Results!I64))*0.85 -> 83.61431 | M64: =D64/J64 -> 0.55332999 | N64: 144 | O64: 3.2 | P64: 100
A65: =Questionnaire!A66 -> 64 | B65: M | C65: 0.07 | D65: 64 | E65: 3 | F65: 1.1 | G65: 1 | H65: 0.8 | I65: =118.7/88.4 -> 1.3427602 | J65: =I65*16 -> 21.484163 | K65: 3.6 | L65: =((140-Questionnaire!B66)*Questionnaire!Y66)/(72*Results!I65) -> 50.42474 | M65: =D65/J65 -> 2.9789385 | N65: 138 | O65: 3.6 | P65: 99
A66: =Questionnaire!A67 -> 65 | B66: F | C66: 0.077 | D66: 10 | E66: 5 | F66: 1.4 | G66: 2 | H66: 1.9 | I66: =145.54/88.4 -> 1.6463801 | J66: =I66*16 -> 26.342081 | K66: 3.7 | L66: =(((140-Questionnaire!B67)*Questionnaire!Y67)/(72*Results!I66))*0.85 -> 50.681897 | M66: =D66/J66 -> 0.37962072 | N66: 146 | O66: 5.1 | P66: 115
A67: =Questionnaire!A68 -> 66 | B67: F | C67: 0.072 | D67: 9 | E67: 6 | F67: 1.3 | G67: 3 | H67: 2.8 | I67: =87.34/88.4 -> 0.98800905 | J67: =I67*16 -> 15.808145 | K67: 2.9 | L67: =(((140-Questionnaire!B68)*Questionnaire!Y68)/(72*Results!I67))*0.85 -> 57.3544 | M67: =D67/J67 -> 0.56932677 | N67: 145 | O67: 4.7 | P67: 107
A68: =Questionnaire!A69 -> 67 | B68: F | C68: 0.103 | D68: 14 | E68: 4 | F68: 1.6 | G68: 1 | H68: 2.3 | I68: =76.89/88.4 -> 0.86979638 | J68: =I68*16 -> 13.916742 | K68: 4 | L68: =(((140-Questionnaire!B69)*Questionnaire!Y69)/(72*Results!I68))*0.85 -> 45.19736 | M68: =D68/J68 -> 1.0059826 | N68: 139 | O68: 4.1 | P68: 100
A69: =Questionnaire!A70 -> 68 | B69: F | C69: 0.062 | D69: 67 | E69: 4 | F69: 1.5 | G69: 1 | H69: 1.4 | I69: =98.54/88.4 -> 1.1147059 | J69: =I69*16 -> 17.835294 | K69: 4.7 | L69: =(((140-Questionnaire!B70)*Questionnaire!Y70)/(72*Results!I69))*0.85 -> 65.0483 | M69: =D69/J69 -> 3.7565963 | N69: 143 | O69: 4.1 | P69: 109
A70: =Questionnaire!A71 -> 69 | B70: M | C70: 0.058 | D70: 46 | E70: 5 | F70: 1.8 | G70: 2 | H70: 1.6 | I70: =96.3/88.4 -> 1.0893665 | J70: =I70*16 -> 17.429864 | K70: 5.9 | L70: =((140-Questionnaire!B71)*Questionnaire!Y71)/(72*Results!I70) -> 54.504154 | M70: =D70/J70 -> 2.6391485 | N70: 145 | O70: 4.5 | P70: 112
A71: =Questionnaire!A72 -> 70 | B71: M | C71: 0.059 | D71: 12 | E71: 6 | F71: 1.1 | G71: 4 | H71: 2 | I71: =76.67/88.4 -> 0.86730769 | J71: =I71*16 -> 13.876923 | K71: 4.1 | L71: =((140-Questionnaire!B72)*Questionnaire!Y72)/(72*Results!I71) -> 82.951466 | M71: =D71/J71 -> 0.86474501 | N71: 143 | O71: 4.2 | P71: 106
A72: =Questionnaire!A73 -> 71 | B72: F | C72: 0.062 | D72: 48 | E72: 5.5 | F72: 1.3 | G72: 1.2 | H72: 2.5 | I72: =112/88.4 -> 1.2669683 | J72: =I72*16 -> 20.271493 | K72: 5.8 | L72: =(((140-Questionnaire!B73)*Questionnaire!Y73)/(72*Results!I72))*0.85 -> 43.719851 | M72: =D72/J72 -> 2.3678571 | N72: 140 | O72: 4.5 | P72: 101
A73: =Questionnaire!A74 -> 72 | B73: F | C73: 0.046 | D73: 11 | E73: 7 | F73: 1.6 | G73: 2 | H73: 3.3 | I73: =80.63/88.4 -> 0.91210407 | J73: =I73*16 -> 14.593665 | K73: 3.5 | L73: =(((140-Questionnaire!B74)*Questionnaire!Y74)/(72*Results!I73))*0.85 -> 66.981117 | M73: =D73/J73 -> 0.75375171 | N73: 145 | O73: 4.1 | P73: 105
A74: =Questionnaire!A75 -> 73 | B74: M | C74: 0.092 | D74: 33 | E74: 4 | F74: 0.9 | G74: 1 | H74: 1.6 | I74: =130.64/88.4 -> 1.4778281 | J74: =I74*16 -> 23.645249 | K74: 7.3 | L74: =((140-Questionnaire!B75)*Questionnaire!Y75)/(72*Results!I74) -> 52.141083 | M74: =D74/J74 -> 1.3956292 | N74: 137 | O74: 4.9 | P74: 109
A75: =Questionnaire!A76 -> 74 | B75: F | C75: >16% | D75: 6 | E75: 6 | F75: 1.7 | G75: 2 | H75: 2.9 | I75: =73.91/88.4 -> 0.83608597 | J75: =I75*16 -> 13.377376 | K75: 3.7 | L75: =(((140-Questionnaire!B76)*Questionnaire!Y76)/(72*Results!I75))*0.85 -> 69.894128 | M75: =D75/J75 -> 0.44851847 | N75: 139 | O75: 4.2 | P75: 102
A76: =Questionnaire!A77 -> 75 | B76: M | C76: 0.072 | D76: 61 | E76: 3 | F76: 1.2 | G76: 1 | H76: 0.7 | I76: =59.72/88.4 -> 0.67556561 | J76: =I76*16 -> 10.80905 | K76: 3.7 | L76: =((140-Questionnaire!B77)*Questionnaire!Y77)/(72*Results!I76) -> 69.036801 | M76: =D76/J76 -> 5.6434193 | N76: 143 | O76: 3.3 | P76: 106
A77: =Questionnaire!A78 -> 76 | B77: F | C77: 0.061 | D77: 32 | E77: 7 | F77: 2.3 | G77: 1 | H77: 3.1 | I77: =85.1/88.4 -> 0.96266968 | J77: =I77*16 -> 15.402715 | K77: 3.4 | L77: =(((140-Questionnaire!B78)*Questionnaire!Y78)/(72*Results!I77))*0.85 -> 53.308784 | M77: =D77/J77 -> 2.0775558 | N77: 132 | O77: 3.7 | P77: 92
A78: =Questionnaire!A79 -> 77 | B78: M | C78: 0.066 | D78: 5 | E78: 3 | F78: 1 | G78: 2 | H78: 1.5 | I78: 1 | J78: =I78*16 -> 16 | K78: 2.9 | L78: =((140-Questionnaire!B79)*Questionnaire!Y79)/(72*Results!I78) -> 96.805556 | M78: =D78/J78 -> 0.3125 | N78: 140 | O78: 3.5 | P78: 107
A79: =Questionnaire!A80 -> 78 | B79: M | C79: 0.079 | D79: 7 | E79: 5 | F79: 1.1 | G79: 3 | H79: 2.1 | I79: =107.5/88.4 -> 1.2160633 | J79: =I79*16 -> 19.457014 | K79: 3.2 | L79: =((140-Questionnaire!B80)*Questionnaire!Y80)/(72*Results!I79) -> 71.268217 | M79: =D79/J79 -> 0.35976744 | N79: 140 | O79: 3.1 | P79: 101
A80: =Questionnaire!A81 -> 79 | B80: F | C80: 0.083 | D80: 160 | E80: 5 | F80: 1.7 | G80: 2 | H80: 2.6 | I80: =97.05/88.4 -> 1.0978507 | J80: =I80*16 -> 17.565611 | K80: 4.5 | L80: =(((140-Questionnaire!B81)*Questionnaire!Y81)/(72*Results!I80))*0.85 -> 60.971406 | M80: =D80/J80 -> 9.1087069 | N80: 139 | O80: 4.5 | P80: 102
A81: =Questionnaire!A82 -> 80 | B81: F | C81: 0.069 | D81: 4 | E81: 4 | F81: 1.2 | G81: 1 | H81: 2.4 | I81: =108.25/88.4 -> 1.2245475 | J81: =I81*16 -> 19.59276 | K81: 3.3 | L81: =(((140-Questionnaire!B82)*Questionnaire!Y82)/(72*Results!I81))*0.85 -> 58.037311 | M81: =D81/J81 -> 0.20415704 | N81: 141 | O81: 5.3 | P81: 110
A82: =Questionnaire!A83 -> 81 | B82: F | C82: 0.06 | D82: 80 | E82: 4 | F82: 1.6 | G82: 1 | H82: 2.2 | I82: =144.08/88.4 -> 1.6298643 | J82: =I82*16 -> 26.077828 | K82: 8 | L82: =(((140-Questionnaire!B83)*Questionnaire!Y83)/(72*Results!I82))*0.85 -> 28.741317 | M82: =D82/J82 -> 3.0677401 | N82: 140 | O82: 3.5 | P82: 100
A83: =Questionnaire!A84 -> 82 | B83: F | C83: 0.079 | D83: 4 | E83: 5 | F83: 1.8 | G83: 1 | H83: 2.7 | I83: =79.13/88.4 -> 0.89513575 | J83: =I83*16 -> 14.322172 | K83: 5.5 | L83: =(((140-Questionnaire!B84)*Questionnaire!Y84)/(72*Results!I83))*0.85 -> 56.130531 | M83: =D83/J83 -> 0.27928725 | N83: 143 | O83: 3.7 | P83: 107
A84: =Questionnaire!A85 -> 83 | B84: M | C84: 0.104 | D84: 64 | E84: 3 | F84: 1.2 | G84: 1 | H84: 1.6 | I84: =117.2/88.4 -> 1.3257919 | J84: =I84*16 -> 21.21267 | K84: 3.4 | L84: =((140-Questionnaire!B85)*Questionnaire!Y85)/(72*Results!I84) -> 58.256589 | M84: =D84/J84 -> 3.0170648 | N84: 146 | O84: 3.6 | P84: 109
A85: =Questionnaire!A86 -> 84 | B85: F | C85: 0.042 | D85: 12 | E85: 4 | F85: 1.7 | G85: 1 | H85: 1.3 | I85: =93.32/88.4 -> 1.0556561 | J85: =I85*16 -> 16.890498 | K85: 2.5 | L85: =(((140-Questionnaire!B86)*Questionnaire!Y86)/(72*Results!I85))*0.85 -> 36.904379 | M85: =D85/J85 -> 0.71045864 | N85: 144 | O85: 3.2 | P85: 106
A86: =Questionnaire!A87 -> 85 | B86: F | C86: 0.064 | D86: 160 | E86: 6 | F86: 1.4 | G86: 2 | H86: 3.7 | I86: =86.6/88.4 -> 0.97963801 | J86: =I86*16 -> 15.674208 | K86: 3.8 | L86: =(((140-Questionnaire!B87)*Questionnaire!Y87)/(72*Results!I86))*0.85 -> 84.356556 | M86: =D86/J86 -> 10.207852 | N86: 140 | O86: 2.6 | P86: 98
A87: =Questionnaire!A88 -> 86 | B87: M | C87: 0.07 | D87: 8 | E87: 5 | F87: 1.8 | G87: 2 | H87: 2.3 | I87: =113.47/88.4 -> 1.2835973 | J87: =I87*16 -> 20.537557 | K87: 8.2 | L87: =((140-Questionnaire!B88)*Questionnaire!Y88)/(72*Results!I87) -> 33.835032 | M87: =D87/J87 -> 0.38953027 | N87: 140 | O87: 4.5 | P87: 106
A88: =Questionnaire!A89 -> 87 | B88: F | C88: 0.065 | D88: 14 | E88: 3 | F88: 1.1 | G88: 1 | H88: 1.5 | I88: =106.75/88.4 -> 1.2075792 | J88: =I88*16 -> 19.321267 | K88: 3.5 | L88: =(((140-Questionnaire!B89)*Questionnaire!Y89)/(72*Results!I88))*0.85 -> 55.988392 | M88: =D88/J88 -> 0.72459016 | N88: 142 | O88: 4 | P88: 106
A89: =Questionnaire!A90 -> 88 | B89: F | C89: 0.067 | D89: 78 | E89: 4 | F89: 1.6 | G89: 1 | H89: 1.7 | I89: =79.13/88.4 -> 0.89513575 | J89: =I89*16 -> 14.322172 | K89: 5 | L89: =(((140-Questionnaire!B90)*Questionnaire!Y90)/(72*Results!I89))*0.85 -> 59.665066 | M89: =D89/J89 -> 5.4461014 | N89: 144 | O89: 3.6 | P89: 109
A90: =Questionnaire!A91 -> 89 | B90: M | C90: 0.054 | D90: 160 | E90: 4 | F90: 1.3 | G90: 2 | H90: 2 | I90: =108.99/88.4 -> 1.2329186 | J90: =I90*16 -> 19.726697 | K90: 4.5 | L90: =((140-Questionnaire!B91)*Questionnaire!Y91)/(72*Results!I90) -> 67.421323 | M90: =D90/J90 -> 8.1108359 | N90: 133 | O90: 3.7 | P90: 99
A91: =Questionnaire!A92 -> 90 | B91: F | C91: 0.063 | D91: 160 | E91: 4 | F91: 1.5 | G91: 1 | H91: 3.1 | I91: =190.36/88.4 -> 2.1533937 | J91: =I91*16 -> 34.454299 | K91: 9.9 | L91: =(((140-Questionnaire!B92)*Questionnaire!Y92)/(72*Results!I91))*0.85 -> 24.944477 | M91: =D91/J91 -> 4.6438327 | N91: 135 | O91: 4.9 | P91: 102
A92: =Questionnaire!A93 -> 91 | B92: M | C92: 0.04 | D92: 160 | E92: 5 | F92: 1.5 | G92: 1 | H92: 3 | I92: =131.39/88.4 -> 1.4863122 | J92: =I92*16 -> 23.780995 | K92: 4.9 | L92: =((140-Questionnaire!B93)*Questionnaire!Y93)/(72*Results!I92) -> 63.692315 | M92: =D92/J92 -> 6.7280615 | N92: 140 | O92: 3.3 | P92: 107
A93: =Questionnaire!A94 -> 92 | B93: M | C93: 0.062 | D93: 16 | E93: 5 | F93: 1.6 | G93: 1 | H93: 3 | I93: =98.54/88.4 -> 1.1147059 | J93: =I93*16 -> 17.835294 | K93: 4.1 | L93: =((140-Questionnaire!B94)*Questionnaire!Y94)/(72*Results!I93) -> 77.711082 | M93: =D93/J93 -> 0.89709763 | N93: 142 | O93: 3.5 | P93: 110
A94: =Questionnaire!A95 -> 93 | B94: F | C94: 0.045 | D94: 34 | E94: 5 | F94: 1.8 | G94: 1 | H94: 2.9 | I94: =85.85/88.4 -> 0.97115385 | J94: =I94*16 -> 15.538462 | K94: 3.6 | L94: =(((140-Questionnaire!B95)*Questionnaire!Y95)/(72*Results!I94))*0.85 -> 32.092409 | M94: =D94/J94 -> 2.1881188 | N94: 143 | O94: 4.3 | P94: 109
A95: =Questionnaire!A96 -> 94 | B95: F | C95: 0.067 | D95: 160 | E95: 5 | F95: 1.8 | G95: 1 | H95: 2.6 | I95: =204.55/88.4 -> 2.313914 | J95: =I95*16 -> 37.022624 | K95: 10.8 | L95: =(((140-Questionnaire!B96)*Questionnaire!Y96)/(72*Results!I95))*0.85 -> 22.785467 | M95: =D95/J95 -> 4.3216817 | N95: 138 | O95: 4.3 | P95: 102
A96: =Questionnaire!A97 -> 95 | B96: F | C96: 0.073 | D96: 28 | E96: 5 | F96: 1.9 | G96: 1 | H96: 2.7 | I96: 1.5 | J96: =I96*16 -> 24 | K96: 16.2 | L96: =(((140-Questionnaire!B97)*Questionnaire!Y97)/(72*Results!I96))*0.85 -> 50.173611 | M96: =D96/J96 -> 1.1666667 | N96: 139 | O96: 4.6 | P96: 102
A97: =Questionnaire!A98 -> 96 | B97: M | C97: 0.063 | D97: 76 | E97: 4 | F97: 1.2 | G97: 1 | H97: 2.4 | I97: =82.86/88.4 -> 0.93733032 | J97: =I97*16 -> 14.997285 | K97: 2.7 | L97: =((140-Questionnaire!B98)*Questionnaire!Y98)/(72*Results!I97) -> 52.394668 | M97: =D97/J97 -> 5.0675839 | N97: 146 | O97: 3.6 | P97: 106
A98: =Questionnaire!A99 -> 97 | B98: M | C98: 0.066 | D98: 9 | E98: 3 | F98: 1.3 | G98: 1 | H98: 1.2 | I98: 1.1 | J98: =I98*16 -> 17.6 | K98: 4.3 | L98: =((140-Questionnaire!B99)*Questionnaire!Y99)/(72*Results!I98) -> 97.575758 | M98: =D98/J98 -> 0.51136364 | N98: 137 | O98: 3.6 | P98: 100
A99: =Questionnaire!A100 -> 98 | B99: F | C99: 0.072 | D99: 160 | E99: 5 | F99: 2 | G99: 1 | H99: 2.6 | I99: =50.76/88.4 -> 0.57420814 | J99: =I99*16 -> 9.1873303 | K99: 4.4 | L99: =(((140-Questionnaire!B100)*Questionnaire!Y100)/(72*Results!I99))*0.85 -> 86.967593 | M99: =D99/J99 -> 17.415288 | N99: 142 | O99: 3.7 | P99: 106
A100: =Questionnaire!A101 -> 99 | B100: F | C100: 0.053 | D100: 55 | E100: 5 | F100: 1.7 | G100: 1 | H100: 2.9 | I100: =82.12/88.4 -> 0.92895928 | J100: =I100*16 -> 14.863348 | K100: 5 | L100: =(((140-Questionnaire!B101)*Questionnaire!Y101)/(72*Results!I100))*0.85 -> 52.866807 | M100: =D100/J100 -> 3.7003775 | N100: 143 | O100: 4 | P100: 107
...
